Workbook

Sheet 재무상태표
A1: □ 재 무 제 표
A2: (1) 재무상태표
A3: 제36(당)기 2018년 12월 31일 현재
A4: 제35(전)기 2017년 12월 31일 현재
A5: 충청남도 서산의료원 | F5: (단위:원)
A6: 과 목 | B6: 제 36(당) 기 | D6: 제 35(전) 기 | F6: 차 감 (당기-전기)
B7: 금 액 | D7: 금 액
A8: 자 산
A9: Ⅰ. 유동자산 | C9: =C10+C21 -> 9996418042 | E9: =SUM(E10,E21) -> 11003780820 | F9: =C9-E9 -> -1007362778
A10: (1) 당좌자산 | C10: =SUM(B11:B20) -> 9646324931 | E10: =SUM(D11:D20) -> 10582883742 | F10: =C10-E10 -> -936558811
A11: 1. 현금및현금성자산 | B11: 4237081740 | D11: 6485512306
A12: 국고보조금(현금) | B12: -2962016 | D12: -788534700
A13: 2. 단기금융상품 | B13: 0 | D13: 0
A14: 3. 의료미수금 | B14: 3650302384 | D14: 3330066669
A15: 대손충당금 | B15: -74101138 | D15: -66268327
A16: 4. 기타미수금 | B16: 1470701764 | D16: 1269170294
A17: 5. 선납법인세 | B17: 12489420 | D17: 0
A18: 6. 미수수익 | B18: 0 | D18: 0
A19: 7. 단기대여금 | B19: 350000000 | D19: 350000000
A20: 8. 선급비용 | B20: 2812777 | D20: 2937500
A21: (2) 재고자산 | C21: =SUM(B22:B24) -> 350093111 | E21: =SUM(D22:D24) -> 420897078 | F21: =C21-E21 -> -70803967
A22: 1. 약 품 | B22: 170400584 | D22: 250149183
A23: 2. 진료재료 | B23: 135074323 | D23: 120592108
A24: 3. 저장품 | B24: 44618204 | D24: 50155787
A25: Ⅱ. 비유동자산 | C25: =SUM(C26,C32,C55) -> 9791225593 | E25: =SUM(E26,E32,E55) -> 9686872614 | F25: =C25-E25 -> 104352979
A26: (1)투자와 기타자산 | C26: =SUM(B27:B31) -> 2209838718 | E26: =SUM(D27:D31) -> 2149838718 | F26: =C26-E26 -> 60000000
A27: 1. 장기대여금 | B27: 584636718 | D27: 584636718
A28: 2. 만기보유증권 | B28: 5020000 | D28: 5020000
A29: 3. 장기금융상품 | B29: 0 | D29: 0
A30: 4. 임차보증금 | B30: 1620000000 | D30: 1560000000
A31: 5. 전신전화가입권 | B31: 182000 | D31: 182000
A32: (2) 유형자산 | C32: =SUM(B33:B54) -> 7581386875 | E32: =SUM(D33:D54) -> 7537033896 | F32: =C32-E32 -> 44352979
A33: 1. 토지 | B33: 8856161130 | D33: 8856161130 | F33: =B33-D33 -> 0
A34: 국고보조금(토지) | B34: -5216712600 | D34: -5216712600
A35: 2. 건물 | B35: 12979400483 | D35: 12874304093
A36: 국고보조금(건물) | B36: -5799004009 | D36: -6010321551
A37: 감가상각누계액 | B37: -4990055480 | D37: -4575113670
A38: 3. 구축물 | B38: 1902794290 | D38: 1902794290
A39: 국고보조금(구축물) | B39: -345774667 | D39: -435913150
A40: 감가상각누계액 | B40: -1217637546 | D40: -1102066386
A41: 4. 기계장치 | B41: 2019015760 | D41: 2019015760
A42: 국고보조금(기계장치) | B42: -948746627 | D42: -1034956995
A43: 감가상각누계액 | B43: -710181590 | D43: -575672619
A44: 5. 의료장비 | B44: 11036050254 | D44: 10897062234
A45: 국고보조금(의료장비) | B45: -962956215 | D45: -1571848297
... A55: (3) 무형자산 | B55: 0 | D55: 0
A56: 자 산 총 계 | C56: =SUM(C25,C9) -> 19787643635 | E56: =SUM(E25,E9) -> 20690653434 | F56: =C56-E56 -> -903009799
A57: 부 채
A58: Ⅰ. 유동부채 | C58: =SUM(B59:B64) -> 2830943155 | E58: =SUM(D59:D64) -> 3361351559 | F58: =C58-E58 -> -530408404
A59: 1. 매입채무 | B59: 1425375604 | D59: 1326122650 | F59: =B59-D59 -> 99252954
A60: 2. 미지급금 | B60: 90588500 | D60: 38264000 | F60: =B60-D60 -> 52324500
A61: 3. 미지급법인세 | D61: 18534410
A62: 4. 유동성장기부채 | B62: 277777770 | D62: 727777770 | F62: =B62-D62 -> -450000000
A63: 5. 예수금 | B63: 386345110 | D63: 370173196 | F63: =B63-D63 -> 16171914
A64: 6. 미지급비용 | B64: 650856171 | D64: 880479533 | F64: =B64-D64 -> -229623362
A65: Ⅱ. 비유동부채 | C65: =SUM(B66:B69) -> 10646575040 | E65: =SUM(D66:D69) -> 10241168390 | F65: =C65-E65 -> 405406650
A66: 1. 지역개발기금 | B66: 1666666690 | D66: 1944444460
A67: 2. 퇴직급여충당부채 | B67: 8988953450 | D67: 8308865530
A68: 퇴직예치금 | B68: 0 | D68: 0
A69: 국민연금전환금 | B69: -9045100 | D69: -12141600
A70: Ⅲ.고유목적사업준비금 | C70: 961657590 | E70: 1148742000
A71: Ⅳ.의료발전준비금 | C71: 457952096 | E71: 365965311
A72: 부 채 총 계 | C72: =SUM(C58,C65,C70,C71) -> 14897127881 | E72: =SUM(E58,E65,E70,E71) -> 15117227260 | F72: =C72-E72 -> -220099379
A73: 자 본
A74: Ⅰ. 자본(기본재산) | C74: =C75 -> 487574000 | E74: =E75 -> 487574000 | F74: =C74-E74 -> 0
A75: (1) 기본금 | C75: =B76+B77 -> 487574000 | E75: =D76+D77 -> 487574000 | F75: =C75-E75 -> 0
A76: 1. 법인기본금 | B76: 487574000 | D76: 487574000
A77: 2. 기타기본금 | B77: 0 | D77: 0
A78: Ⅱ. 잉여금 | C78: =C79+C82 -> 4402941754 | E78: 5085852174 | F78: =C78-E78 -> -682910420
A79: (1) 자본잉여금 | C79: =SUM(C80:C81) -> 0 | E79: =SUM(E80:E81) -> 0 | F79: =C79-E79 -> 0
A80: 1. 무상임차자산
A81: 2. 재평가적립금
A82: (2) 이익잉여금(결손금) | C82: =B83 -> 4402941754 | E82: 5085852174 | F82: =C82-E82 -> -682910420
A83: 1. 처분전이익잉여금 | B83: 4402941754 | D83: 5085852174
A84: 당기순이익(손실) | B84: -682910420 | D84: -380282870
A85: 전기순이익(손실) | B85: -380282870 | D85: -1071328734
A86: 자 본 총 계 | C86: =C74+C78 -> 4890515754 | E86: =E74+E78 -> 5573426174 | F86: =C86-E86 -> -682910420
A87: 부채와 자본총계 | C87: =C86+C72 -> 19787643635 | E87: =E86+E72 -> 20690653434 | F87: =C87-E87 -> -903009799
C89: =C56-C87 -> 0 | E89: =E56-E87 -> 0

Sheet 손익계산서
A1: (2) 손익계산서
A2: 제36(당)기 2018년1월 1일부터 2018년 12월 31일까지
A3: 제35(전)기 2017년1월 1일부터 2017년 12월 31일까지
A4: ='[1]BS39-40'!A5 -> 충청남도 서산의료원 | F4: (단위:원)
A5: 과 목 | B5: ='[1]BS39-40'!B6 -> 제 36(당) 기 | D5: ='[1]BS39-40'!D6 -> 제 35(전) 기 | F5: 차 감 (당기-전기)
B6: 금 액 | D6: 금 액
A7: Ⅰ. 의료수익 | C7: =SUM(B8:B11) -> 26603515118 | E7: =SUM(D8:D11) -> 25536585083 | F7: =C7-E7 -> 1066930035
A8: 1. 입원수익 | B8: 13051810410 | D8: 12718436460 | F8: =B8-D8 -> 333373950
A9: 2. 외래수익 | B9: 11562077072 | D9: 10880970103 | F9: =B9-D9 -> 681106969
A10: 3. 기타의료수익 | B10: 1989627636 | D10: 1933882950 | F10: =B10-D10 -> 55744686
A11: 4. 수탁진료수익 | D11: 3295570 | F11: =B11-D11 -> -3295570
A12: Ⅱ. 의료비용 | C12: =SUM(C17,C13,C21,C33) -> 29757120440 | E12: =SUM(E17,E13,E21,E33) -> 28192881892 | F12: =C12-E12 -> 1564238548
A13: 1. 인건비 | C13: =SUM(B14:B16) -> 19524917040 | E13: =SUM(D14:D16) -> 18311871464 | F13: =C13-E13 -> 1213045576
A14: (1) 기본급 | B14: 17631629480 | D14: 16759050294 | F14: =B14-D14 -> 872579186
A15: (2) 제수당 | B15: 112000000 | D15: 0 | F15: =B15-D15 -> 112000000
A16: (3) 퇴직급여 | B16: 1781287560 | D16: 1552821170 | F16: =B16-D16 -> 228466390
A17: 2. 재료비 | C17: =SUM(B18:B20) -> 4708066369 | E17: =SUM(D18:D20) -> 4410525291 | F17: =C17-E17 -> 297541078
A18: (1) 약품비 | B18: 1711046149 | D18: 1673045626 | F18: =B18-D18 -> 38000523
A19: (2) 진료재료비 | B19: 2321249482 | D19: 2106295483 | F19: =B19-D19 -> 214953999
A20: (3) 급식재료비 | B20: 675770738 | D20: 631184182 | F20: =B20-D20 -> 44586556
A21: 3. 관리운영비 | C21: =SUM(B22:B48) -> 5524137031 | E21: =SUM(D22:D48) -> 5470485137 | F21: =C21-E21 -> 53651894
A22: (1) 복리후생비 | B22: 1549133666 | D22: 1412936447 | F22: =B22-D22 -> 136197219
A23: (2) 여비교통비 | B23: 10925300 | D23: 6532800 | F23: =B23-D23 -> 4392500
A24: (3) 통신비 | B24: 50492970 | D24: 52745500 | F24: =B24-D24 -> -2252530
A25: (4) 전기수도료 | B25: 461150290 | D25: 509742566 | F25: =B25-D25 -> -48592276
A26: (5) 세금과공과 | B26: 205824760 | D26: 196254430 | F26: =B26-D26 -> 9570330
A27: (6) 보험료 | B27: 3652220 | D27: 3788997 | F27: =B27-D27 -> -136777
A28: (7) 환경관리비 | B28: 228261666 | D28: 214532990 | F28: =B28-D28 -> 13728676
A29: (8) 지급임차료 | B29: 461901026 | D29: 395212792 | F29: =B29-D29 -> 66688234
A30: (9) 지급수수료 | B30: 186631735 | D30: 218649069 | F30: =B30-D30 -> -32017334
A31: (10) 수선비 | B31: 147462026 | D31: 244783305 | F31: =B31-D31 -> -97321279
A32: (11) 차량유지비 | B32: 15106635 | D32: 17909654 | F32: =B32-D32 -> -2803019
A33: (12) 교육훈련비 | B33: 45159030 | D33: 83267190 | F33: =B33-D33 -> -38108160
... A47: (26) 잡비 | B47: 8522550 | D47: 19507790 | F47: =B47-D47 -> -10985240
A48: (27) 의료분쟁비용 | B48: 31046960 | D48: 68033900
A49: Ⅲ.의료(손실)이익 | C49: =C7-C12 -> -3153605322 | E49: =E7-E12 -> -2656296809 | F49: =C49-E49 -> -497308513
A50: Ⅳ.의료외수익 | C50: =SUM(B51:B59) -> 5751276105 | E50: =SUM(D51:D59) -> 6023779016 | F50: =C50-E50 -> -272502911
A51: 1. 이자수익 | B51: 9630916 | D51: 83873540 | F51: =B51-D51 -> -74242624
A52: 2. 영안실수익 | B52: 4168343830 | D52: 4508560570 | F52: =B52-D52 -> -340216740
A53: 3. 주차수익 | B53: 32051250
A54: 4. 유형자산처분이익 | B54: 597850 | D54: 299000 | F54: =B54-D54 -> 298850
A55: 5. 기타의업외수익 | B55: 375103559 | D55: 331951906 | F55: =B55-D55 -> 43151653
A56: 6. 보조금수익 | B56: 659000000 | D56: 551000000 | F56: =B56-D56 -> 108000000
A57: 7. 수탁진료부담금수익 | B57: 503725000 | D57: 548094000 | F57: =B57-D57 -> -44369000
A58: 8. 자산수증이익 | B58: 2823700 | F58: =B58-D58 -> 2823700
A59: 9. 전기오류수정이익 | F59: =B59-D59 -> 0
A60: Ⅴ.의업외비용 | C60: =SUM(B61:B67) -> 3375678828 | E60: =SUM(D61:D67) -> 3764578881 | F60: =C60-E60 -> -388900053
A61: 1. 이자비용 | B61: 53097407 | D61: 71291858 | F61: =B61-D61 -> -18194451
A62: 2. 영안실운영비 | B62: 2634159628 | D62: 2628462808 | F62: =B62-D62 -> 5696820
A63: 3. 주차운영비 | B63: 32977956
A64: 4. 기타의료외비용 | B64: 151718837 | D64: 264095736 | F64: =B64-D64 -> -112376899
A65: 5. 수탁진료사업비용 | B65: 503725000 | D65: 494281521 | F65: =B65-D65 -> 9443479
A66: 6. 유형자산처분손실 | D66: 306446958 | F66: =B66-D66 -> -306446958
A67: 7. 전기오류수정손실 | B67: 0 | D67: 0 | F67: =B67-D67 -> 0
A68: Ⅵ.법인세차감전이익 | C68: =C49+C50-C60 -> -778008045 | E68: =E50-E60+E49 -> -397096674 | F68: =C68-E68 -> -380911371
A69: Ⅶ.법인세비용등 | E69: 31054860 | F69: =C69-E69 -> -31054860
A70: Ⅷ.고유목적사업준비금 설정전 당기순이익 | C70: =C68-C69 -> -778008045 | E70: =E68-E69 -> -428151534 | F70: =C70-E70 -> -349856511
A71: Ⅸ.고유목적사업준비금 전입액 | F71: =C71-E71 -> 0
A72: Ⅹ. 고유목적사업준비금 환입액 | C72: 95097625 | E72: 47868664 | F72: =C72-E72 -> 47228961
A73: Ⅸ.당기순이익(순손실) | C73: =C68-C69-C71+C72 -> -682910420 | E73: =E68-E69-E71+E72 -> -380282870 | F73: =C73-E73 -> -302627550

Sheet 기본금변동계산서
A1: (3) 기본금변동계산서
A2: ='[1]PL41-42'!A2 -> 제36(당)기 2018년1월 1일부터 2018년 12월 31일까지
A3: ='[1]PL41-42'!A3 -> 제35(전)기 2017년1월 1일부터 2017년 12월 31일까지
A4: ='[1]PL41-42'!A4 -> 충청남도 서산의료원 | F4: (단위:원)
A5: 과 목 | B5: ='[1]PL41-42'!B5 -> 제 36(당) 기 | D5: ='[1]PL41-42'!D5 -> 제 35(전) 기 | F5: 차 감 (당기-전기)
B6: 금 액 | D6: 금 액
A7: Ⅰ. 기본금 | C7: =SUM(B8:B9) -> 487574000 | E7: =SUM(D8:D9) -> 487574000 | F7: =C7-E7 -> 0
A8: 1. 법인기본금 | B8: ='[1]BS39-40'!B76 -> 487574000 | D8: ='[1]BS39-40'!D76 -> 487574000 | F8: =B8-D8 -> 0
A9: 2. 기타기본금 | B9: 0 | D9: ='[1]BS39-40'!D77 -> 0 | F9: =B9-D9 -> 0
A10: Ⅱ. 자본잉여금 | C10: =B11+B12 -> 0 | E10: =D11+D12 -> 0 | F10: =B10-D10 -> 0
A11: 1. 자산재평가적립금
A12: 2. 기타자본잉여금
A13: Ⅲ. 처분전이익잉여금 | C13: =SUM(B15:B21) -> 4402941754 | E13: =SUM(D15:D21) -> 5085852174 | F13: =C13-E13 -> -682910420
A14: (또는 처분전이월결손금) | F14: =B14-D14 -> 0
A15: 1. 전기이월이익잉여금 | B15: =E28 -> 5085852174 | D15: 5466135044 | F15: =B15-D15 -> -380282870
A16: (또는 전기이월결손금) | F16: =B16-D16 -> 0
A17: 2. 회계변경의 누적효과 | B17: 0
A18: 3. 전기오류수정이익 | D18: 0
A19: (또는 전기오류 수정손실)
A20: 4. 당기순이익 | B20: ='[1]PL41-42'!C73 -> -682910420 | D20: ='[1]PL41-42'!E73 -> -380282870 | F20: =B20-D20 -> -302627550
A21: (또는 당기순손실) | F21: =B21-D21 -> 0
A22: Ⅳ. 임의적립금이입액 | C22: =B24 -> 0 | E22: =D24 -> 0 | F22: =C22-E22 -> 0
A23: (또는 결손금처리액)
A24: 1. 재평가적립금 | F24: =B24-D24 -> 0
A25: Ⅴ. 이익잉여금처분액
A26: 1. 이익준비금
A27: 2. 기업합리화적립금
A28: Ⅵ. 차기이월이익잉여금 | C28: =C13+C22 -> 4402941754 | E28: =E13+E22 -> 5085852174 | F28: =C28-E28 -> -682910420
A29: (또는 차기이월결손금) | F29: =B29-D29 -> 0

Sheet 현금흐름표
A1: (4) 현금흐름표
A2: =[1]기본금43!A2 -> 제36(당)기 2018년1월 1일부터 2018년 12월 31일까지
A3: =[1]기본금43!A3 -> 제35(전)기 2017년1월 1일부터 2017년 12월 31일까지
A4: =[1]기본금43!A4 -> 충청남도 서산의료원 | E4: (단위:원)
A5: 과 목 | B5: =[1]기본금43!B5 -> 제 36(당) 기 | D5: =[1]기본금43!D5 -> 제 35(전) 기
B6: 금 액 | D6: 금 액
A7: Ⅰ. 영업활동으로 인한 현금흐름 | C7: =SUM(B8,B9,B13,B16) -> -167927112 | E7: =SUM(D8,D9,D13,D16) -> 4938370655
A8: 1. 당기순이익 | B8: ='[1]PL41-42'!C73 -> -682910420 | D8: ='[1]PL41-42'!E73 -> -380282870
A9: 2. 현금의 유출이 없는 비용등의 가산 | B9: =SUM(B10:B12) -> 463397871 | D9: =SUM(D10:D12) -> 704028431
A10: (1) 감가상각비 | B10: 463397871 | D10: 397581473
A11: (2) 유형자산처분손실 | B11: ='[1]PL41-42'!B66 -> 0 | D11: 306446958
A12: (3) 고유목적사업준비금전입액
A13: 3. 현금의 유입이 없는 수익등의 차감 | B13: =-SUM(B14:B15) -> -95695475 | D13: =-SUM(D14:D15) -> -48167664
A14: (1) 유형자산처분이익 | B14: ='[1]PL41-42'!B54 -> 597850 | D14: ='[1]PL41-42'!D54 -> 299000
A15: (2) 고유목적사업준비금환입액 | B15: 95097625 | D15: 47868664
A16: 4. 의료활동으로 인한 자산 부채의 변동 | B16: =SUM(B17:B29) -> 147280912 | D16: =SUM(D17:D29) -> 4662792758
A17: (1)의료미수금의 감소(증가) | B17: -312402904 | D17: 178268211
A18: (2)기타미수금의 감소(증가) | B18: -201531470 | D18: -339936024
A19: (3)선납법인세의 감소(증가) | B19: -12489420 | D19: 0
A20: (4)미수수익의 감소(증가) | B20: 0 | D20: 0
A21: (5)선급비용의 감소(증가) | B21: 124723 | D21: 188921
A22: (6)재고자산의 감소(증가) | B22: 70803967 | D22: -89452389
A23: (7)매입채무의 증가(감소) | B23: 99252954 | D23: -260306660
A24: (8)미지급금의 증가(감소) | B24: 52324500 | D24: -3275810
A25: (9)미지급법인세의 증가(감소) | B25: -18534410 | D25: -8550372
A26: (10)예수금의 증가(감소) | B26: 16171914 | D26: 30723057
A27: (11)선수수익의 증가(감소)
A28: (12)미지급비용의 증가(감소) | B28: -229623362 | D28: 157688317
A29: (13)퇴직급여충당부채의 증가(감소) | B29: 683184420 | D29: 4997445507
A30: Ⅱ. 투자활동으로 인한 현금흐름 | C30: =SUM(B31,B41) -> -6479153000 | E30: =SUM(D31,D41) -> -4384477370
A31: 1. 투자활동으로 인한 현금유입액 | B31: =SUM(B32:B40) -> 647850 | D31: =SUM(D32:D40) -> 300000
A32: (1)임차보증금의 감소
A33: (2)단기금융상품의 감소 | B33: 0 | D33: 0
A34: (3)단기대여금의 감소 | B34: 0 | D34: 0
A35: (4)장기금융상품의 감소 | B35: 0 | D35: 0
A36: (5)만기보유증권의 감소 | B36: 0 | D36: 0
A37: (6)의료기구의 처분 | B37: 0
A38: (7)공기구비품의 처분
A39: (8)차량운반구의 처분 | B39: 647850 | D39: 300000
A40: (9)건설중인자산의 감소 | B40: 0
A41: 2. 투자활동으로 인한 현금유출액 | B41: =-SUM(B42:B52) -> -6479800850 | D41: =-SUM(D42:D52) -> -4384777370
A42: (1)장기금융상품의 증가 | B42: 0 | D42: 0
A43: (2)임차보증금의 증가 | B43: 60000000 | D43: 95000000
A44: (3)만기보유증권의 취득
A45: (4)토지의 증가
A46: (5)건물의 증가 | B46: 105096390 | D46: 221768000
A47: (6)구축물의 증가 | B47: 0 | D47: 0
A48: (7)기계장치의 증가 | B48: 0 | D48: 0
A49: (8)의료기구의 증가 | B49: 161988020 | D49: 229490000
A50: (9)차량운반구의 증가 | B50: 28298570 | D50: 0
A51: (10)공기구비품의 증가 | B51: 392417870 | D51: 218519370
A52: (11)건설중인자산의 증가 | B52: 5732000000 | D52: 3620000000
A53: Ⅲ. 재무활동으로 인한 현금흐름 | C53: =SUM(B54,B57) -> 4398649546 | E53: =SUM(D54,D57) -> 3317614930
A54: 1. 재무활동으로 인한 현금유입액 | B54: =SUM(B55:B56) -> 5126427316 | D54: =SUM(D55:D56) -> 4045392700
A55: (1)국고보조금(출연금)의 증가 | B55: 5126427316 | D55: 4045392700
A56: (2) 장기차입금의 증가 | B56: 0 | D56: 0
A57: 2. 재무활동으로 인한 현금유출액 | B57: =-SUM(B58:B59) -> -727777770 | D57: =-SUM(D58:D59) -> -727777770
A58: (1)유동성장기부채의 상환 | B58: 727777770 | D58: 727777770
A59: (2)지역개발금의 상환
A60: Ⅳ. 현금의 증가(감소)(Ⅰ+Ⅱ+Ⅲ) | C60: =SUM(C53,C30,C7) -> -2248430566 | E60: =SUM(E53,E30,E7) -> 3871508215
A61: Ⅴ. 기초의 현금 | C61: =E62 -> 6485512306 | E61: 2614004091
A62: Ⅵ. 기말의 현금 | C62: =SUM(C60:C61) -> 4237081740 | E62: =SUM(E60:E61) -> 6485512306

Sheet 임원 및 운영인력현황
A1: □ 인력현황(정원/현원)
I2: (단위 : 명)
A4: 직 종 별 | C4: 당기말현황 | F4: 전 기 | G4: 증 감 | H4: 연인원 | I4: 비 고
A5: 계 | C5: =SUM(C6,C7,C11,C21,C24,C44) -> 309 | D5: / | E5: =SUM(E6,E7,E11,E21,E24,E44) -> 291 | F5: =SUM(F6,F7,F11,F21,F24,F44) -> 292 | G5: =SUM(G6,G7,G11,G21,G24,G44) -> -1 | H5: =SUM(H6,H7,H11,H21,H24,H44) -> 101899
A6: 1. 상 임 이 사 | C6: 1 | D6: / | E6: 1 | F6: 1 | G6: =+E6-F6 -> 0 | H6: 151
A7: 2. 의 료 직 | C7: =SUM(C8:C10) -> 157 | D7: / | E7: =SUM(E8:E10) -> 136 | F7: =SUM(F8:F10) -> 145 | G7: =SUM(G8:G10) -> -9 | H7: =SUM(H8:H10) -> 46859
B8: 1. 의 사 | C8: 27 | D8: / | E8: 29 | F8: 28 | G8: =+E8-F8 -> 1 | H8: 10500 | I8: 전공의(2), 비상근(2)
B9: 2. 약 사 | C9: 4 | D9: / | E9: 2 | F9: 4 | G9: =+E9-F9 -> -2 | H9: 971
B10: 3. 간 호 사 | C10: 126 | D10: / | E10: 105 | F10: 113 | G10: =+E10-F10 -> -8 | H10: =35449-61 -> 35388
A11: 3. 보 건 직 | C11: =SUM(C12:C20) -> 45 | D11: / | E11: =SUM(E12:E20) -> 45 | F11: =SUM(F12:F20) -> 43 | G11: =SUM(G12:G20) -> 2 | H11: =SUM(H12:H20) -> 15734
B12: 1.방 사 선 사 | C12: 13 | D12: / | E12: 11 | F12: 11 | G12: =+E12-F12 -> 0 | H12: 4015
B13: 2.임상병리사 | C13: 12 | D13: / | E13: 13 | F13: 12 | G13: =+E13-F13 -> 1 | H13: 4452
B14: 3.물리치료사 | C14: 5 | D14: / | E14: 5 | F14: 5 | G14: =+E14-F14 -> 0 | H14: 1825 | I14: 노인병원 기능통합(2)
B15: 4.의무기록사 | C15: 3 | D15: / | E15: 3 | F15: 3 | G15: =+E15-F15 -> 0 | H15: 1095
B16: 5.치위생사 | C16: 2 | D16: / | E16: 2 | F16: 2 | G16: =+E16-F16 -> 0 | H16: 716
B17: 6.영양사 | C17: 2 | D17: / | E17: 2 | F17: 2 | G17: =+E17-F17 -> 0 | H17: 730
B18: 7.사회복지사 | C18: 2 | D18: / | E18: 3 | F18: 2 | G18: =+E18-F18 -> 1 | H18: 760 | I18: 사회복지사(3)
B19: 8.응급코디네이터 | C19: 1 | D19: / | E19: 1 | F19: 1 | G19: =+E19-F19 -> 0 | H19: 365
B20: 9.응급구조사 | C20: 5 | D20: / | E20: 5 | F20: 5 | G20: =+E20-F20 -> 0 | H20: 1776
A21: 4. 사 무 직 | C21: =SUM(C22:C23) -> 29 | D21: / | E21: =SUM(E22:E23) -> 29 | F21: =SUM(F22:F23) -> 30 | G21: =SUM(G22:G23) -> -1 | H21: =SUM(H22:H23) -> 10921
B22: 1.사 무 원 | C22: =29 -> 29 | D22: / | E22: =29 -> 29 | F22: =30 -> 30 | G22: =+E22-F22 -> -1 | H22: =10921 -> 10921 | I22: 노인병원 기능통합(2)
B23: 2.기타 | D23: / | G23: =+E23-F23 -> 0
A24: 5. 기술(능)직(고용직) | C24: =SUM(C25:C43) -> 77 | D24: / | E24: =SUM(E25:E43) -> 80 | F24: =SUM(F25:F43) -> 73 | G24: =SUM(G25:G43) -> 7 | H24: =SUM(H25:H43) -> 28234
B25: 1.전 기 기 사 | C25: 1 | D25: / | E25: 1 | F25: 1 | G25: =+E25-F25 -> 0 | H25: 365
B26: 2.전산처리사 | C26: 3 | D26: / | E26: 2 | F26: 2 | G26: =+E26-F26 -> 0 | H26: 730 | I26: 노인병원 기능통합(1)
B27: 3.열 관 리 사 | C27: 1 | D27: / | E27: 1 | F27: 2 | G27: =+E27-F27 -> -1 | H27: 440
B28: 4.건 축 기 사 | C28: 1 | D28: / | E28: 1 | F28: 1 | G28: =+E28-F28 -> 0 | H28: 365
B29: 5.건축설비기사 | C29: 1 | D29: / | E29: 0 | F29: 1 | G29: =+E29-F29 -> -1 | H29: 138
B30: 6.환 경 기 사 | C30: 1 | D30: / | E30: 2 | F30: 2 | G30: =+E30-F30 -> 0 | H30: 730
B31: 7.고압가스기사 | C31: 1 | D31: / | E31: 2 | F31: 1 | G31: =+E31-F31 -> 1 | H31: 609
B32: 8.소방기사 | C32: 1 | D32: / | E32: 1 | F32: 0 | G32: =+E32-F32 -> 1 | H32: 274
B33: 9.보건관리자, 의공기사 | C33: 2 | D33: / | E33: 1 | F33: 0 | G33: =+E33-F33 -> 1 | H33: 148
B34: 10.사무보조원 | C34: 3 | D34: / | E34: 3 | F34: 3 | G34: =+E34-F34 -> 0 | H34: 1095
B35: 11.간호조무사 | C35: 20 | D35: / | E35: 22 | F35: 20 | G35: =+E35-F35 -> 2 | H35: =7803+30 -> 7833
B36: 12.업무보조원 | C36: 11 | E36: 12 | F36: 11 | G36: =+E36-F36 -> 1 | H36: 3904
B37: 13.운전원 | C37: 1 | E37: 1 | F37: 1 | G37: =+E37-F37 -> 0 | H37: 365
B38: 14.조리사 | C38: 4 | E38: 4 | F38: 4 | G38: =+E38-F38 -> 0 | H38: 1460
B39: 15.조리원 | C39: 16 | D39: / | E39: 17 | F39: 16 | G39: =+E39-F39 -> 1 | H39: 6408
B40: 16.약국업무보조 | C40: 2 | D40: / | E40: 3 | F40: 2 | G40: =+E40-F40 -> 1 | H40: 906
B41: 17.장례지도사 | C41: 6 | D41: / | E41: 6 | F41: 5 | G41: =+E41-F41 -> 1 | H41: 2099
B42: 18.안내상담원 | C42: 1 | D42: / | E42: 1 | F42: 1 | G42: =+E42-F42 -> 0 | H42: 365
B43: 19.사서 | C43: 1 | D43: / | E43: 0 | F43: 0 | G43: =+E43-F43 -> 0 | H43: 0
A44: 6.일용잡급직 | C44: =SUM(C45:C46) -> 0 | D44: / | E44: =SUM(E45:E46) -> 0 | F44: =SUM(F45:F46) -> 0 | G44: =SUM(G45:G46) -> 0 | H44: =SUM(H45:H46) -> 0
B45: 1.상근노무직 | C45: 0 | D45: / | E45: 0 | F45: 0 | G45: =+E45-F45 -> 0
B46: 2.기 타 | C46: 0 | D46: / | E46: 0 | F46: 0 | G46: =+E46-F46 -> 0 | H46: 0
A47: ※ 의사[전문의(비상근 2명 포함), 일반의, 치과의, 공중보건의, 전공의(2명) 포함 / 원장은 상임이사에 포함]
A48: ※ 계약직 및 노인전문병원 기능통합 인원(5명)은 직종별 현원에 포함. ※ 연인원 : 실제근무기간(공휴일포함) × 인원수
A49: ※ 일용잡급직: 건강검진보조인력으로 중간에 근무하고 연말이전에 퇴사함.

Sheet 인건비 예산 및 집행현황
A1: □ 인건비 예산과 집행현황
L2: (단위:원)
A3: 과 목 | E3: 예 산 액 (A) | F3: 예산결정후증감(B) | H3: 이월 예산 (C) | I3: 예산현액 (D)=(A+B+C) | J3: 지출원인 행위액 (E) | K3: 채무 확정액 (F) | L3: 지출액(G)
A4: 관 | B4: 항 | C4: 목 | D4: 세 목 | F4: 예비비 | G4: 목간전용
B5: 100 인건비 | E5: =SUM(E6,E16,E18) -> 22916820000 | F5: =SUM(F6,F16,F18) -> 0 | G5: =SUM(G6,G16,G18) -> 0 | H5: =SUM(H6,H16,H18) -> 0 | I5: =SUM(I6,I16,I18) -> 22916820000 | J5: =SUM(J6,J16,J18) -> 18957203700 | K5: =SUM(K6,K16,K18) -> 18957203700 | L5: =SUM(L6,L16,L18) -> 18833216240
C6: 101 급여 | E6: =SUM(E7:E15) -> 19572820000 | F6: =SUM(F7:F15) -> 0 | G6: =SUM(G7:G15) -> 0 | H6: =SUM(H7:H15) -> 0 | I6: =SUM(I7:I15) -> 19572820000 | J6: =SUM(J7:J15) -> 17631629480 | K6: =SUM(K7:K15) -> 17631629480 | L6: =SUM(L7:L15) -> 17551389430
D7: 101-1의사직급여 | E7: 6491856000 | I7: =E7+G7+H7 -> 6491856000 | J7: =K7 -> 6239844040 | K7: 6239844040 | L7: 6239844040
D8: 101-2간호직급여 | E8: 6698064000 | I8: =E8+G8+H8 -> 6698064000 | J8: =K8 -> 5983724310 | K8: 5983724310 | L8: 5938346230
D9: 101-3약무직급여 | E9: 345059000 | I9: =E9+G9+H9 -> 345059000 | J9: =K9 -> 257437470 | K9: 257437470 | L9: 256833940
D10: 101-4의료기사급여 | E10: 1917890000 | I10: =E10+G10+H10 -> 1917890000 | J10: =K10 -> 1592898680 | K10: 1592898680 | L10: 1581174020
D11: 101-5영양직급여 | E11: 853044000 | I11: =E11+G11+H11 -> 853044000 | J11: =K11 -> 678909810 | K11: 678909810 | L11: 673626850
D12: 101-6사무직급여 | E12: 1499986000 | I12: =E12+G12+H12 -> 1499986000 | J12: =K12 -> 1247675650 | K12: 1247675650 | L12: 1238928300
D13: 101-7기술직급여 | E13: 460461000 | I13: =E13+G13+H13 -> 460461000 | J13: =K13 -> 424561610 | K13: 424561610 | L13: 421457910
D14: 101-8기능직급여 | E14: 340260000 | I14: =E14+G14+H14 -> 340260000 | J14: =K14 -> 327703270 | K14: 327703270 | L14: 325281190
D15: 101-9기타직급여 | E15: 966200000 | I15: =E15+G15+H15 -> 966200000 | J15: =K15 -> 878874640 | K15: 878874640 | L15: 875896950
C16: 102 제수당 | E16: =SUM(E17:E17) -> 144000000 | F16: =SUM(F17:F17) -> 0 | H16: =SUM(H17:H17) -> 0 | I16: =SUM(I17:I17) -> 144000000 | J16: =SUM(J17:J17) -> 112000000 | K16: =SUM(K17:K17) -> 112000000 | L16: =SUM(L17:L17) -> 72000000
D17: 102-1 제수당 | E17: 144000000 | I17: =E17+G17+H17 -> 144000000 | J17: =K17 -> 112000000 | K17: 112000000 | L17: 72000000
C18: 103 퇴직급여 | E18: =SUM(E19:E19) -> 3200000000 | F18: =SUM(F19:F19) -> 0 | G18: =SUM(G19:G19) -> 0 | H18: =SUM(H19:H19) -> 0 | I18: =SUM(I19:I19) -> 3200000000 | J18: =SUM(J19:J19) -> 1213574220 | K18: =SUM(K19:K19) -> 1213574220 | L18: =SUM(L19:L19) -> 1209826810
D19: 103-1 퇴직급여 | E19: 3200000000 | I19: =E19+G19+H19 -> 3200000000 | J19: =K19 -> 1213574220 | K19: 1213574220 | L19: 1209826810
