Workbook

Sheet 원가계산서
B1: 공 사 원 가 계 산 서
B2: 공사명 : 서산노인전문병원치매요양병원리모델링공사 | F2: 금액 :
B3: 비 목 | E3: 금 액 | F3: 구 성 비 | G3: 비 고
A4: A1 | B4: 순 공 사 원 가 | C4: 재 료 비 | D4: 직 접 재 료 비 | E4: =TRUNC(공종별집계표!F5, 0) -> 0
A5: A2 | D5: 간 접 재 료 비 | E5: 0
A6: A3 | D6: 작 업 부 산 물 | E6: =TRUNC(공종별집계표!T22+공종별집계표!T25, 0) -> 0
A7: AS | D7: [ 소 계 ] | E7: =TRUNC(E4+E5-E6, 0) -> 0
A8: B1 | C8: 노 무 비 | D8: 직 접 노 무 비 | E8: =TRUNC(공종별집계표!H5, 0) -> 0
A9: B2 | D9: 간 접 노 무 비 | E9: =TRUNC(E8*0.079, 0) -> 0 | F9: 직접노무비 * 7.9%
A10: BS | D10: [ 소 계 ] | E10: =TRUNC(E8+E9, 0) -> 0
A11: C2 | C11: 경 비 | D11: 기 계 경 비 | E11: =TRUNC(공종별집계표!J5, 0) -> 0
A12: C4 | D12: 산 재 보 험 료 | E12: =TRUNC(E10*0.0405, 0) -> 0 | F12: 노무비 * 4.05%
A13: C5 | D13: 고 용 보 험 료 | E13: =TRUNC(E10*0.0087, 0) -> 0 | F13: 노무비 * 0.87%
A14: C6 | D14: 국민 건강 보험료 | E14: =TRUNC(E8*0.0312, 0) -> 0 | F14: 직접노무비 * 3.12%
A15: C7 | D15: 국민 연금 보험료 | E15: =TRUNC(E8*0.045, 0) -> 0 | F15: 직접노무비 * 4.5%
A16: CB | D16: 노인장기요양보험료 | E16: =TRUNC(E14*0.0738, 0) -> 0 | F16: 건강보험료 * 7.38%
A17: C8 | D17: 퇴직 공제 부금비 | E17: =TRUNC(E8*0.023, 0) -> 0 | F17: 직접노무비 * 2.3%
A18: CA | D18: 산업안전보건관리비 | E18: =TRUNC((E7+E8+(0/1.1))*0.0293, 0) -> 0 | F18: (재료비+직노) * 2.93%
A19: CH | D19: 환 경 보 전 비 | E19: =TRUNC((E7+E8+E11)*0.003, 0) -> 0 | F19: (재료비+직노+기계경비) * 0.3%
A20: CG | D20: 기 타 경 비 | E20: =TRUNC((E7+E10)*0.055, 0) -> 0 | F20: (재료비+노무비) * 5.5%
A21: CK | D21: 하도급지급보증수수료 | E21: =TRUNC((E7+E8+E11)*0.00081, 0) -> 0 | F21: (재료비+직노+기계경비) * 0.081%
A22: CL | D22: 건설기계대여금지급보증서발급수수료 | E22: =TRUNC((E7+E8+E11)*0.0007, 0) -> 0 | F22: (재료비+직노+기계경비) * 0.07%
A23: CS | D23: [ 소 계 ] | E23: =TRUNC(E11+E12+E13+E14+E15+E17+E18+E16+E20+E19+E21+E22, 0) -> 0
A24: S1 | B24: 계 | E24: =TRUNC(E7+E10+E23, 0) -> 0
A25: D1 | B25: 일 반 관 리 비 | E25: =TRUNC(E24*0.06, 0) -> 0 | F25: 계 * 6%
A26: D2 | B26: 이 윤 | E26: =TRUNC((E10+E23+E25)*0.15, 0) -> 0 | F26: (노무비+경비+일반관리비) * 15%
A27: D9 | B27: 공 급 가 액 | E27: =TRUNC(E24+E25+E26, 0) -> 0
A28: DB | B28: 부 가 가 치 세 | E28: =TRUNC(E27*0.1, 0) -> 0 | F28: 공급가액 * 10%
A29: DH | B29: 도 급 액 | E29: =TRUNC(INT((E27+E28)/1000)*1000, 0) -> 0
A30: DK | B30: 관급자관급자재 | E30: =TRUNC(공종별집계표!T26, 0) -> 0
A31: S2 | B31: 총 공 사 비 | E31: =TRUNC(E29+0+E30, 0) -> 0

Sheet 공종별집계표
A1: 공 종 별 집 계 표
A2: [ 서산노인전문병원치매요양병원리모델링공사 ]
A3: 품 명 | B3: 규 격 | C3: 단위 | D3: 수량 | E3: 재 료 비 | G3: 노 무 비 | I3: 경 비 | K3: 합 계 | M3: 비 고 | N3: 공종코드 | O3: 변수 | P3: 상위공종 | Q3: 공종구분 | R3: 공종레벨 | S3: 공종소계 | T3: 원가계산서 연결금액
E4: 단 가 | F4: 금 액 | G4: 단 가 | H4: 금 액 | I4: 단 가 | J4: 금 액 | K4: 단 가 | L4: 금 액
A5: 01 서산노인전문병원치매요양병원리모델링공사 | D5: 1 | E5: =F6+F23 -> 0 | F5: =E5*D5 -> 0 | G5: =H6+H23 -> 0 | H5: =G5*D5 -> 0 | I5: =J6+J23 -> 0 | J5: =I5*D5 -> 0 | K5: =E5+G5+I5 -> 0 | L5: =F5+H5+J5 -> 0 | N5: 01 | R5: 1
A6: 0101 ◈ 건축공사 ◈ | D6: 1 | E6: =F7+F8+F9+F10+F11+F12+F13+F14+F15+F16+F17+F18+F19+F20+F21 -> 0 | F6: =E6*D6 -> 0 | G6: =H7+H8+H9+H10+H11+H12+H13+H14+H15+H16+H17+H18+H19+H20+H21 -> 0 | H6: =G6*D6 -> 0 | I6: =J7+J8+J9+J10+J11+J12+J13+J14+J15+J16+J17+J18+J19+J20+J21 -> 0 | J6: =I6*D6 -> 0 | K6: =E6+G6+I6 -> 0 | L6: =F6+H6+J6 -> 0 | N6: 0101 | P6: 01 | R6: 2
A7: 010101 가 설 공 사 | D7: 1 | E7: =공종별내역서!F27 -> 0 | F7: =E7*D7 -> 0 | G7: =공종별내역서!H27 -> 0 | H7: =G7*D7 -> 0 | I7: =공종별내역서!J27 -> 0 | J7: =I7*D7 -> 0 | K7: =E7+G7+I7 -> 0 | L7: =F7+H7+J7 -> 0 | N7: 010101 | P7: 0101 | R7: 3
A8: 010102 조 적 공 사 | D8: 1 | E8: =공종별내역서!F51 -> 0 | F8: =E8*D8 -> 0 | G8: =공종별내역서!H51 -> 0 | H8: =G8*D8 -> 0 | I8: =공종별내역서!J51 -> 0 | J8: =I8*D8 -> 0 | K8: =E8+G8+I8 -> 0 | L8: =F8+H8+J8 -> 0 | N8: 010102 | P8: 0101 | R8: 3
A9: 010103 타 일 공 사 | D9: 1 | E9: =공종별내역서!F75 -> 0 | F9: =E9*D9 -> 0 | G9: =공종별내역서!H75 -> 0 | H9: =G9*D9 -> 0 | I9: =공종별내역서!J75 -> 0 | J9: =I9*D9 -> 0 | K9: =E9+G9+I9 -> 0 | L9: =F9+H9+J9 -> 0 | N9: 010103 | P9: 0101 | R9: 3
A10: 010104 돌 공 사 | D10: 1 | E10: =공종별내역서!F99 -> 0 | F10: =E10*D10 -> 0 | G10: =공종별내역서!H99 -> 0 | H10: =G10*D10 -> 0 | I10: =공종별내역서!J99 -> 0 | J10: =I10*D10 -> 0 | K10: =E10+G10+I10 -> 0 | L10: =F10+H10+J10 -> 0 | N10: 010104 | P10: 0101 | R10: 3
A11: 010105 목 공 사 | D11: 1 | E11: =공종별내역서!F123 -> 0 | F11: =E11*D11 -> 0 | G11: =공종별내역서!H123 -> 0 | H11: =G11*D11 -> 0 | I11: =공종별내역서!J123 -> 0 | J11: =I11*D11 -> 0 | K11: =E11+G11+I11 -> 0 | L11: =F11+H11+J11 -> 0 | N11: 010105 | P11: 0101 | R11: 3
A12: 010106 방 수 공 사 | D12: 1 | E12: =공종별내역서!F147 -> 0 | F12: =E12*D12 -> 0 | G12: =공종별내역서!H147 -> 0 | H12: =G12*D12 -> 0 | I12: =공종별내역서!J147 -> 0 | J12: =I12*D12 -> 0 | K12: =E12+G12+I12 -> 0 | L12: =F12+H12+J12 -> 0 | N12: 010106 | P12: 0101 | R12: 3
A13: 010107 금 속 공 사 | D13: 1 | E13: =공종별내역서!F171 -> 0 | F13: =E13*D13 -> 0 | G13: =공종별내역서!H171 -> 0 | H13: =G13*D13 -> 0 | I13: =공종별내역서!J171 -> 0 | J13: =I13*D13 -> 0 | K13: =E13+G13+I13 -> 0 | L13: =F13+H13+J13 -> 0 | N13: 010107 | P13: 0101 | R13: 3
A14: 010108 미 장 공 사 | D14: 1 | E14: =공종별내역서!F195 -> 0 | F14: =E14*D14 -> 0 | G14: =공종별내역서!H195 -> 0 | H14: =G14*D14 -> 0 | I14: =공종별내역서!J195 -> 0 | J14: =I14*D14 -> 0 | K14: =E14+G14+I14 -> 0 | L14: =F14+H14+J14 -> 0 | N14: 010108 | P14: 0101 | R14: 3
A15: 010109 창 호 공 사 | D15: 1 | E15: =공종별내역서!F219 -> 0 | F15: =E15*D15 -> 0 | G15: =공종별내역서!H219 -> 0 | H15: =G15*D15 -> 0 | I15: =공종별내역서!J219 -> 0 | J15: =I15*D15 -> 0 | K15: =E15+G15+I15 -> 0 | L15: =F15+H15+J15 -> 0 | N15: 010109 | P15: 0101 | R15: 3
A16: 010110 유 리 공 사 | D16: 1 | E16: =공종별내역서!F243 -> 0 | F16: =E16*D16 -> 0 | G16: =공종별내역서!H243 -> 0 | H16: =G16*D16 -> 0 | I16: =공종별내역서!J243 -> 0 | J16: =I16*D16 -> 0 | K16: =E16+G16+I16 -> 0 | L16: =F16+H16+J16 -> 0 | N16: 010110 | P16: 0101 | R16: 3
A17: 010111 칠 공 사 | D17: 1 | E17: =공종별내역서!F267 -> 0 | F17: =E17*D17 -> 0 | G17: =공종별내역서!H267 -> 0 | H17: =G17*D17 -> 0 | I17: =공종별내역서!J267 -> 0 | J17: =I17*D17 -> 0 | K17: =E17+G17+I17 -> 0 | L17: =F17+H17+J17 -> 0 | N17: 010111 | P17: 0101 | R17: 3
A18: 010112 수 장 공 사 | D18: 1 | E18: =공종별내역서!F291 -> 0 | F18: =E18*D18 -> 0 | G18: =공종별내역서!H291 -> 0 | H18: =G18*D18 -> 0 | I18: =공종별내역서!J291 -> 0 | J18: =I18*D18 -> 0 | K18: =E18+G18+I18 -> 0 | L18: =F18+H18+J18 -> 0 | N18: 010112 | P18: 0101 | R18: 3
A19: 010113 실내 조경 설치 | D19: 1 | E19: =공종별내역서!F315 -> 0 | F19: =E19*D19 -> 0 | G19: =공종별내역서!H315 -> 0 | H19: =G19*D19 -> 0 | I19: =공종별내역서!J315 -> 0 | J19: =I19*D19 -> 0 | K19: =E19+G19+I19 -> 0 | L19: =F19+H19+J19 -> 0 | N19: 010113 | P19: 0101 | R19: 3
A20: 010114 철 거 공 사 | D20: 1 | E20: =공종별내역서!F339 -> 0 | F20: =E20*D20 -> 0 | G20: =공종별내역서!H339 -> 0 | H20: =G20*D20 -> 0 | I20: =공종별내역서!J339 -> 0 | J20: =I20*D20 -> 0 | K20: =E20+G20+I20 -> 0 | L20: =F20+H20+J20 -> 0 | N20: 010114 | P20: 0101 | R20: 3
A21: 010115 골 재 대 | D21: 1 | E21: =공종별내역서!F363 -> 0 | F21: =E21*D21 -> 0 | G21: =공종별내역서!H363 -> 0 | H21: =G21*D21 -> 0 | I21: =공종별내역서!J363 -> 0 | J21: =I21*D21 -> 0 | K21: =E21+G21+I21 -> 0 | L21: =F21+H21+J21 -> 0 | N21: 010115 | P21: 0101 | R21: 3
A22: 010116 작 업 부 산 물 | D22: 1 | E22: =공종별내역서!F387 -> 0 | F22: =E22*D22 -> 0 | G22: =공종별내역서!H387 -> 0 | H22: =G22*D22 -> 0 | I22: =공종별내역서!J387 -> 0 | J22: =I22*D22 -> 0 | K22: =E22+G22+I22 -> 0 | L22: =F22+H22+J22 -> 0 | N22: 010116 | Q22: 1 | R22: 3 | T22: =L22*1 -> 0
A23: 0102 ◈ 기계설비공사 ◈ | D23: 1 | E23: =F24 -> 0 | F23: =E23*D23 -> 0 | G23: =H24 -> 0 | H23: =G23*D23 -> 0 | I23: =J24 -> 0 | J23: =I23*D23 -> 0 | K23: =E23+G23+I23 -> 0 | L23: =F23+H23+J23 -> 0 | N23: 0102 | P23: 01 | R23: 2
A24: 010201 기계설비공사 | D24: 1 | E24: =공종별내역서!F411 -> 0 | F24: =E24*D24 -> 0 | G24: =공종별내역서!H411 -> 0 | H24: =G24*D24 -> 0 | I24: =공종별내역서!J411 -> 0 | J24: =I24*D24 -> 0 | K24: =E24+G24+I24 -> 0 | L24: =F24+H24+J24 -> 0 | N24: 010201 | P24: 0102 | R24: 3
A25: 010202 작업부산물 | D25: 1 | E25: =공종별내역서!F435 -> 0 | F25: =E25*D25 -> 0 | G25: =공종별내역서!H435 -> 0 | H25: =G25*D25 -> 0 | I25: =공종별내역서!J435 -> 0 | J25: =I25*D25 -> 0 | K25: =E25+G25+I25 -> 0 | L25: =F25+H25+J25 -> 0 | N25: 010202 | Q25: 1 | R25: 3 | T25: =L25*1 -> 0
A26: 010203 관급자관급자재 | D26: 1 | E26: =공종별내역서!F459 -> 0 | F26: =E26*D26 -> 0 | G26: =공종별내역서!H459 -> 0 | H26: =G26*D26 -> 0 | I26: =공종별내역서!J459 -> 0 | J26: =I26*D26 -> 0 | K26: =E26+G26+I26 -> 0 | L26: =F26+H26+J26 -> 0 | N26: 010203 | Q26: 6 | R26: 3 | T26: =L26*1 -> 0
A27: [ 합 계 ] | F27: =F5 -> 0 | H27: =H5 -> 0 | J27: =J5 -> 0 | L27: =L5 -> 0

Sheet 공종별내역서
A1: [ 서산노인전문병원치매요양병원리모델링공사 ]
A2: 품 명 | B2: 규 격 | C2: 단위 | D2: 수량 | E2: 재료비 | G2: 노 무 비 | I2: 경 비 | K2: 합 계 | M2: 비 고 | N2: 품목코드 | O2: 변수 | P2: 설정 | Q2: 공종코드 | R2: 일위 | S2: 단산 | T2: 자재 | U2: 손료적용 | V2: 손료저장 | W2: 적용율 | X2: JUK1 | Y2: JUK2 | Z2: JUK3 | AA2: JUK4 | AB2: JUK5 | AC2: JUK6 | AD2: JUK7 | AE2: JUK8 | AF2: JUK9 | AG2: JUK10 | AH2: JUK11 | AI2: JUK12 | AJ2: JUK13 | AK2: JUK14 | AL2: JUK15 | AM2: JUK16 | AN2: JUK17 | AO2: JUK18 | AP2: JUK19 | AQ2: JUK20 | AR2: 자재구분 | AS2: 공종구분 | AT2: 공종레벨 | AU2: 공종+자재 | AV2: 고유번호
E3: 단 가 | F3: 금 액 | H3: 금 액 | J3: 금 액 | K3: 단 가 | L3: 금 액
A4: 010101 가 설 공 사 | Q4: 010101
A5: 강관 조립말비계(이동식) | B5: 높이 2m, 3개월 | C5: 대 | D5: 5 | F5: =TRUNC(E5*D5, 0) -> 0 | H5: =TRUNC(G5*D5, 0) -> 0 | J5: =TRUNC(I5*D5, 0) -> 0 | K5: =TRUNC(E5+G5+I5, 0) -> 0 | L5: =TRUNC(F5+H5+J5, 0) -> 0 | N5: 598285F8665D55764BE8D3CB2C879E | Q5: 010101 | R5: T | S5: F | T5: F | AU5: 010101598285F8665D55764BE8D3CB2C879E | AV5: 4
A6: 건축물현장정리 | B6: 보수및리모델링 | C6: M2 | D6: 644 | F6: =TRUNC(E6*D6, 0) -> 0 | H6: =TRUNC(G6*D6, 0) -> 0 | J6: =TRUNC(I6*D6, 0) -> 0 | K6: =TRUNC(E6+G6+I6, 0) -> 0 | L6: =TRUNC(F6+H6+J6, 0) -> 0 | N6: 598285FDE75C1486F266D360291BDC | Q6: 010101 | R6: T | S6: F | T6: F | AU6: 010101598285FDE75C1486F266D360291BDC | AV6: 5
A27: [ 합 계 ] | F27: =SUM(F5:F26) -> 0 | H27: =SUM(H5:H26) -> 0 | J27: =SUM(J5:J26) -> 0 | L27: =SUM(L5:L26) -> 0 | N27: TOTAL
A28: 010102 조 적 공 사 | Q28: 010102
A29: 콘크리트벽돌 | B29: 콘크리트벽돌, 190*57*90mm, 충남, C종2급 | C29: 매 | D29: 5933 | F29: =TRUNC(E29*D29, 0) -> 0 | H29: =TRUNC(G29*D29, 0) -> 0 | J29: =TRUNC(I29*D29, 0) -> 0 | K29: =TRUNC(E29+G29+I29, 0) -> 0 | L29: =TRUNC(F29+H29+J29, 0) -> 0 | N29: 5EA6257F8156D2B68384D31922FB7D83E21868 | Q29: 010102 | R29: F | S29: F | T29: T | AU29: 0101025EA6257F8156D2B68384D31922FB7D83E21868 | AV29: 7
A30: 0.5B 벽돌쌓기 | B30: 3.6m 이하 | C30: 천매 | D30: 3.031 | F30: =TRUNC(E30*D30, 0) -> 0 | H30: =TRUNC(G30*D30, 0) -> 0 | J30: =TRUNC(I30*D30, 0) -> 0 | K30: =TRUNC(E30+G30+I30, 0) -> 0 | L30: =TRUNC(F30+H30+J30, 0) -> 0 | N30: 5982F549DB5B05F63937D35024A5E4 | Q30: 010102 | R30: T | S30: F | T30: F | AU30: 0101025982F549DB5B05F63937D35024A5E4 | AV30: 8
A31: 1.0B 벽돌쌓기 | B31: 3.6m 이하 | C31: 천매 | D31: 2.229 | F31: =TRUNC(E31*D31, 0) -> 0 | H31: =TRUNC(G31*D31, 0) -> 0 | J31: =TRUNC(I31*D31, 0) -> 0 | K31: =TRUNC(E31+G31+I31, 0) -> 0 | L31: =TRUNC(F31+H31+J31, 0) -> 0 | N31: 5982F549DB5B05D60CC01389276DA8 | Q31: 010102 | R31: T | S31: F | T31: F | AU31: 0101025982F549DB5B05D60CC01389276DA8 | AV31: 9
A32: 1.5B 벽돌쌓기 | B32: 3.6m 이하 | C32: 천매 | D32: 0.389 | F32: =TRUNC(E32*D32, 0) -> 0 | H32: =TRUNC(G32*D32, 0) -> 0 | J32: =TRUNC(I32*D32, 0) -> 0 | K32: =TRUNC(E32+G32+I32, 0) -> 0 | L32: =TRUNC(F32+H32+J32, 0) -> 0 | N32: 5982F549DB5B05B65F0CC3132FA02E | Q32: 010102 | R32: T | S32: F | T32: F | AU32: 0101025982F549DB5B05B65F0CC3132FA02E | AV32: 149
A33: 벽돌 운반 | B33: 인력, 5층 | C33: 천매 | D33: 5.65 | F33: =TRUNC(E33*D33, 0) -> 0 | H33: =TRUNC(G33*D33, 0) -> 0 | J33: =TRUNC(I33*D33, 0) -> 0 | K33: =TRUNC(E33+G33+I33, 0) -> 0 | L33: =TRUNC(F33+H33+J33, 0) -> 0 | N33: 5982F549D9582436E0C983752D40C9 | Q33: 010102 | R33: T | S33: F | T33: F | AU33: 0101025982F549D9582436E0C983752D40C9 | AV33: 10
A34: 실외기패드설치 | B34: 2900*1200*200 | C34: EA | D34: 1 | F34: =TRUNC(E34*D34, 0) -> 0 | H34: =TRUNC(G34*D34, 0) -> 0 | J34: =TRUNC(I34*D34, 0) -> 0 | K34: =TRUNC(E34+G34+I34, 0) -> 0 | L34: =TRUNC(F34+H34+J34, 0) -> 0 | N34: 5982F55A0850CA46054BF39828BC55 | Q34: 010102 | R34: T | S34: F | T34: F | AU34: 0101025982F55A0850CA46054BF39828BC55 | AV34: 112
A51: [ 합 계 ] | F51: =SUM(F29:F50) -> 0 | H51: =SUM(H29:H50) -> 0 | J51: =SUM(J29:J50) -> 0 | L51: =SUM(L29:L50) -> 0 | N51: TOTAL
A52: 010103 타 일 공 사 | Q52: 010103
A53: 도기질타일압착붙임(바탕 18mm+압 6mm) | B53: 벽, 200*250(일반C, 백색줄눈) | C53: M2 | D53: 287 | F53: =TRUNC(E53*D53, 0) -> 0 | H53: =TRUNC(G53*D53, 0) -> 0 | J53: =TRUNC(I53*D53, 0) -> 0 | K53: =TRUNC(E53+G53+I53, 0) -> 0 | L53: =TRUNC(F53+H53+J53, 0) -> 0 | N53: 5982455F53545BD64054E33C2BCBC3 | Q53: 010103 | R53: T | S53: F | T53: F | AU53: 0101035982455F53545BD64054E33C2BCBC3 | AV53: 153
A54: 자기질타일압착붙임(바탕 51mm+압 5mm) | B54: 바닥, 200*200 | C54: M2 | D54: 73 | F54: =TRUNC(E54*D54, 0) -> 0 | H54: =TRUNC(G54*D54, 0) -> 0 | J54: =TRUNC(I54*D54, 0) -> 0 | K54: =TRUNC(E54+G54+I54, 0) -> 0 | L54: =TRUNC(F54+H54+J54, 0) -> 0 | N54: 5982455F51597C166028D3072798CE | Q54: 010103 | R54: T | S54: F | T54: F | AU54: 0101035982455F51597C166028D3072798CE | AV54: 154
A75: [ 합 계 ] | F75: =SUM(F53:F74) -> 0 | H75: =SUM(H53:H74) -> 0 | J75: =SUM(J53:J74) -> 0 | L75: =SUM(L53:L74) -> 0 | N75: TOTAL
A76: 010104 돌 공 사 | Q76: 010104
A77: 화강석붙임(습식, 물갈기) | B77: 창대, 포천석 150*30mm, 모르타르 30mm | C77: M | D77: 3 | F77: =TRUNC(E77*D77, 0) -> 0 | H77: =TRUNC(G77*D77, 0) -> 0 | J77: =TRUNC(I77*D77, 0) -> 0 | K77: =TRUNC(E77+G77+I77, 0) -> 0 | L77: =TRUNC(F77+H77+J77, 0) -> 0 | N77: 5982455C99577F263ED8737626DB03 | Q77: 010104 | R77: T | S77: F | T77: F | AU77: 0101045982455C99577F263ED8737626DB03 | AV77: 151
A78: 화강석붙임(습식, 물갈기) | B78: 창대, 포천석 300*30mm, 모르타르 30mm | C78: M | D78: 6 | F78: =TRUNC(E78*D78, 0) -> 0 | H78: =TRUNC(G78*D78, 0) -> 0 | J78: =TRUNC(I78*D78, 0) -> 0 | K78: =TRUNC(E78+G78+I78, 0) -> 0 | L78: =TRUNC(F78+H78+J78, 0) -> 0 | N78: 5982455C99577F263ED8735B25ABDD | Q78: 010104 | R78: T | S78: F | T78: F | AU78: 0101045982455C99577F263ED8735B25ABDD | AV78: 152
A99: [ 합 계 ] | F99: =SUM(F77:F98) -> 0 | H99: =SUM(H77:H98) -> 0 | J99: =SUM(J77:J98) -> 0 | L99: =SUM(L77:L98) -> 0 | N99: TOTAL
A100: 010105 목 공 사 | Q100: 010105
A101: 조경박스설치 | B101: 7500*720*H250 | C101: EA | D101: 1 | F101: =TRUNC(E101*D101, 0) -> 0 | H101: =TRUNC(G101*D101, 0) -> 0 | J101: =TRUNC(I101*D101, 0) -> 0 | K101: =TRUNC(E101+G101+I101, 0) -> 0 | L101: =TRUNC(F101+H101+J101, 0) -> 0 | N101: 598265AD03597B267AC5535125726F | Q101: 010105 | R101: T | S101: F | T101: F | AU101: 010105598265AD03597B267AC5535125726F | AV101: 106
A102: 목질걸레받이 붙임 | B102: T=9,H=100, 인테리어필름 | C102: M | D102: 245 | F102: =TRUNC(E102*D102, 0) -> 0 | H102: =TRUNC(G102*D102, 0) -> 0 | J102: =TRUNC(I102*D102, 0) -> 0 | K102: =TRUNC(E102+G102+I102, 0) -> 0 | L102: =TRUNC(F102+H102+J102, 0) -> 0 | N102: 598265AD03597B267AC55351257269 | Q102: 010105 | R102: T | S102: F | T102: F | AU102: 010105598265AD03597B267AC55351257269 | AV102: 98
A103: 벽, MDF붙임 | B103: 9.0mm | C103: M2 | D103: 102 | F103: =TRUNC(E103*D103, 0) -> 0 | H103: =TRUNC(G103*D103, 0) -> 0 | J103: =TRUNC(I103*D103, 0) -> 0 | K103: =TRUNC(E103+G103+I103, 0) -> 0 | L103: =TRUNC(F103+H103+J103, 0) -> 0 | N103: 598265AF325B72F6E83983CC25D131 | Q103: 010105 | R103: T | S103: F | T103: F | AU103: 010105598265AF325B72F6E83983CC25D131 | AV103: 17
A104: 허리몰딩설치(MDF평몰딩) | B104: 9*20,인테리어필름 | C104: M | D104: 75 | F104: =TRUNC(E104*D104, 0) -> 0 | H104: =TRUNC(G104*D104, 0) -> 0 | J104: =TRUNC(I104*D104, 0) -> 0 | K104: =TRUNC(E104+G104+I104, 0) -> 0 | L104: =TRUNC(F104+H104+J104, 0) -> 0 | N104: 598265AD03597B267AC5535125726E | Q104: 010105 | R104: T | S104: F | T104: F | AU104: 010105598265AD03597B267AC5535125726E | AV104: 97
A123: [ 합 계 ] | F123: =SUM(F101:F122) -> 0 | H123: =SUM(H101:H122) -> 0 | J123: =SUM(J101:J122) -> 0 | L123: =SUM(L101:L122) -> 0 | N123: TOTAL
A124: 010106 방 수 공 사 | Q124: 010106
A125: 수밀코킹(실리콘) | B125: 삼각, 10mm, 창호주위 | C125: M | D125: 182 | F125: =TRUNC(E125*D125, 0) -> 0 | H125: =TRUNC(G125*D125, 0) -> 0 | J125: =TRUNC(I125*D125, 0) -> 0 | K125: =TRUNC(E125+G125+I125, 0) -> 0 | L125: =TRUNC(F125+H125+J125, 0) -> 0 | N125: 5982152C105711B6E9F0C31E2CA67D | Q125: 010106 | R125: T | S125: F | T125: F | AU125: 0101065982152C105711B6E9F0C31E2CA67D | AV125: 45
A126: 시멘트 액체방수 | B126: 바닥 | C126: M2 | D126: 73 | F126: =TRUNC(E126*D126, 0) -> 0 | H126: =TRUNC(G126*D126, 0) -> 0 | J126: =TRUNC(I126*D126, 0) -> 0 | K126: =TRUNC(E126+G126+I126, 0) -> 0 | L126: =TRUNC(F126+H126+J126, 0) -> 0 | N126: 598215233659DBA67D0ED3BA26DD08 | Q126: 010106 | R126: T | S126: F | T126: F | AU126: 010106598215233659DBA67D0ED3BA26DD08 | AV126: 20
A127: 시멘트 액체방수 | B127: 벽 | C127: M2 | D127: 153 | F127: =TRUNC(E127*D127, 0) -> 0 | H127: =TRUNC(G127*D127, 0) -> 0 | J127: =TRUNC(I127*D127, 0) -> 0 | K127: =TRUNC(E127+G127+I127, 0) -> 0 | L127: =TRUNC(F127+H127+J127, 0) -> 0 | N127: 59821523375A4AB62D92133C20B086 | Q127: 010106 | R127: T | S127: F | T127: F | AU127: 01010659821523375A4AB62D92133C20B086 | AV127: 21
A147: [ 합 계 ] | F147: =SUM(F125:F146) -> 0 | H147: =SUM(H125:H146) -> 0 | J147: =SUM(J125:J146) -> 0 | L147: =SUM(L125:L146) -> 0 | N147: TOTAL
A148: 010107 금 속 공 사 | Q148: 010107
A149: 타일벽코너가드 | B149: 스텐1.2t*10*10 | C149: M | D149: 29 | F149: =TRUNC(E149*D149, 0) -> 0 | H149: =TRUNC(G149*D149, 0) -> 0 | J149: =TRUNC(I149*D149, 0) -> 0 | K149: =TRUNC(E149+G149+I149, 0) -> 0 | L149: =TRUNC(F149+H149+J149, 0) -> 0 | N149: 5982E56BFC520B56CE926370203C4E | Q149: 010107 | R149: T | S149: F | T149: F | AU149: 0101075982E56BFC520B56CE926370203C4E | AV149: 156
A150: PVC핸드레일 | B150: 벽부형, Φ38MM | C150: M | D150: 82 | F150: =TRUNC(E150*D150, 0) -> 0 | H150: =TRUNC(G150*D150, 0) -> 0 | J150: =TRUNC(I150*D150, 0) -> 0 | K150: =TRUNC(E150+G150+I150, 0) -> 0 | L150: =TRUNC(F150+H150+J150, 0) -> 0 | N150: 5EA6257F855C66A6142FC3EA26ECE7256A29EF | Q150: 010107 | R150: F | S150: F | T150: T | AU150: 0101075EA6257F855C66A6142FC3EA26ECE7256A29EF | AV150: 99
A151: 트렌치(하부스텐1.5T) | B151: 스텐,W150*H100*3t,SST | C151: M | D151: 5 | F151: =TRUNC(E151*D151, 0) -> 0 | H151: =TRUNC(G151*D151, 0) -> 0 | J151: =TRUNC(I151*D151, 0) -> 0 | K151: =TRUNC(E151+G151+I151, 0) -> 0 | L151: =TRUNC(F151+H151+J151, 0) -> 0 | N151: 59823570C75DB5864ECF63D129CEDE | Q151: 010107 | R151: T | S151: F | T151: F | AU151: 01010759823570C75DB5864ECF63D129CEDE | AV151: 157
A152: 경량 천장 철골틀 | B152: M-BAR | C152: M2 | D152: 599 | F152: =TRUNC(E152*D152, 0) -> 0 | H152: =TRUNC(G152*D152, 0) -> 0 | J152: =TRUNC(I152*D152, 0) -> 0 | K152: =TRUNC(E152+G152+I152, 0) -> 0 | L152: =TRUNC(F152+H152+J152, 0) -> 0 | N152: 5982357EA0554636C85823E028AE56 | Q152: 010107 | R152: T | S152: F | T152: F | AU152: 0101075982357EA0554636C85823E028AE56 | AV152: 24
A153: 스테인리스공프레임 | B153: W160*1.2t(코킹 5*5) | C153: M | D153: 6 | F153: =TRUNC(E153*D153, 0) -> 0 | H153: =TRUNC(G153*D153, 0) -> 0 | J153: =TRUNC(I153*D153, 0) -> 0 | K153: =TRUNC(E153+G153+I153, 0) -> 0 | L153: =TRUNC(F153+H153+J153, 0) -> 0 | N153: 5982357CF05CB666D1A2F34928E353 | Q153: 010107 | R153: T | S153: F | T153: F | AU153: 0101075982357CF05CB666D1A2F34928E353 | AV153: 155
A154: 스테인리스재료분리대 | B154: 바닥, W45*H20*1.5t | C154: M | D154: 10 | F154: =TRUNC(E154*D154, 0) -> 0 | H154: =TRUNC(G154*D154, 0) -> 0 | J154: =TRUNC(I154*D154, 0) -> 0 | K154: =TRUNC(E154+G154+I154, 0) -> 0 | L154: =TRUNC(F154+H154+J154, 0) -> 0 | N154: 598265AB59590B469AAE537D260806 | Q154: 010107 | R154: T | S154: F | T154: F | AU154: 010107598265AB59590B469AAE537D260806 | AV154: 25
A155: 철재커텐박스(ㄱ자형) | B155: 150*150*1.2t, STL(도장 유) | C155: M | D155: 21 | F155: =TRUNC(E155*D155, 0) -> 0 | H155: =TRUNC(G155*D155, 0) -> 0 | J155: =TRUNC(I155*D155, 0) -> 0 | K155: =TRUNC(E155+G155+I155, 0) -> 0 | L155: =TRUNC(F155+H155+J155, 0) -> 0 | N155: 598265A428516056385E932B20374B | Q155: 010107 | R155: T | S155: F | T155: F | AU155: 010107598265A428516056385E932B20374B | AV155: 26
A156: 철재커텐박스(ㄷ자형) | B156: 150*150*1.2t, STL(도장 유) | C156: M | D156: 7 | F156: =TRUNC(E156*D156, 0) -> 0 | H156: =TRUNC(G156*D156, 0) -> 0 | J156: =TRUNC(I156*D156, 0) -> 0 | K156: =TRUNC(E156+G156+I156, 0) -> 0 | L156: =TRUNC(F156+H156+J156, 0) -> 0 | N156: 598265A4285157E666F9B38B241555 | Q156: 010107 | R156: T | S156: F | T156: F | AU156: 010107598265A4285157E666F9B38B241555 | AV156: 27
A157: AL몰딩설치(W형) | B157: 15*15*15*15*1.0mm | C157: M | D157: 461 | F157: =TRUNC(E157*D157, 0) -> 0 | H157: =TRUNC(G157*D157, 0) -> 0 | J157: =TRUNC(I157*D157, 0) -> 0 | K157: =TRUNC(E157+G157+I157, 0) -> 0 | L157: =TRUNC(F157+H157+J157, 0) -> 0 | N157: 598265A5325DD016B9B8830C2EC992 | Q157: 010107 | R157: T | S157: F | T157: F | AU157: 010107598265A5325DD016B9B8830C2EC992 | AV157: 28
A158: AL몰딩설치(ㄷ형) | B158: 15*30*15*1.3mm | C158: M | D158: 137 | F158: =TRUNC(E158*D158, 0) -> 0 | H158: =TRUNC(G158*D158, 0) -> 0 | J158: =TRUNC(I158*D158, 0) -> 0 | K158: =TRUNC(E158+G158+I158, 0) -> 0 | L158: =TRUNC(F158+H158+J158, 0) -> 0 | N158: 598265A5325DD016B78BA3BB27902A | Q158: 010107 | R158: T | S158: F | T158: F | AU158: 010107598265A5325DD016B78BA3BB27902A | AV158: 29
A159: MDF간접등박스 | B159: MDF18mm, H:200/인테리어필름마감 | C159: M | D159: 81 | F159: =TRUNC(E159*D159, 0) -> 0 | H159: =TRUNC(G159*D159, 0) -> 0 | J159: =TRUNC(I159*D159, 0) -> 0 | K159: =TRUNC(E159+G159+I159, 0) -> 0 | L159: =TRUNC(F159+H159+J159, 0) -> 0 | N159: 598265A5325DD006983653D62B8676 | Q159: 010107 | R159: T | S159: F | T159: F | AU159: 010107598265A5325DD006983653D62B8676 | AV159: 30
A171: [ 합 계 ] | F171: =SUM(F149:F170) -> 0 | H171: =SUM(H149:H170) -> 0 | J171: =SUM(J149:J170) -> 0 | L171: =SUM(L149:L170) -> 0 | N171: TOTAL
A172: 010108 미 장 공 사 | Q172: 010108
A173: 경량기포 콘크리트 타설 | C173: M3 | D173: 3 | F173: =TRUNC(E173*D173, 0) -> 0 | H173: =TRUNC(G173*D173, 0) -> 0 | J173: =TRUNC(I173*D173, 0) -> 0 | K173: =TRUNC(E173+G173+I173, 0) -> 0 | L173: =TRUNC(F173+H173+J173, 0) -> 0 | N173: 5982D57C6C5197C627E203FB2ADA97 | Q173: 010108 | R173: T | S173: F | T173: F | AU173: 0101085982D57C6C5197C627E203FB2ADA97 | AV173: 32
A174: 모르타르 바름 | B174: 내벽, 13mm ,전기배선부 보수포함 | C174: M2 | D174: 65 | F174: =TRUNC(E174*D174, 0) -> 0 | H174: =TRUNC(G174*D174, 0) -> 0 | J174: =TRUNC(I174*D174, 0) -> 0 | K174: =TRUNC(E174+G174+I174, 0) -> 0 | L174: =TRUNC(F174+H174+J174, 0) -> 0 | N174: 5982E560D35F1BC6DF4B83A22A571F | Q174: 010108 | R174: T | S174: F | T174: F | AU174: 0101085982E560D35F1BC6DF4B83A22A571F | AV174: 33
A175: 모르타르 바름 | B175: 바닥, 30mm | C175: M2 | D175: 84 | F175: =TRUNC(E175*D175, 0) -> 0 | H175: =TRUNC(G175*D175, 0) -> 0 | J175: =TRUNC(I175*D175, 0) -> 0 | K175: =TRUNC(E175+G175+I175, 0) -> 0 | L175: =TRUNC(F175+H175+J175, 0) -> 0 | N175: 5982E560D35F3686891D2333237B3E | Q175: 010108 | R175: T | S175: F | T175: F | AU175: 0101085982E560D35F3686891D2333237B3E | AV175: 34
A195: [ 합 계 ] | F195: =SUM(F173:F194) -> 0 | H195: =SUM(H173:H194) -> 0 | J195: =SUM(J173:J194) -> 0 | L195: =SUM(L173:L194) -> 0 | N195: TOTAL
A196: 010109 창 호 공 사 | Q196: 010109
A197: FSD01[1.6*45*150,분체도장] | B197: 1.800 x 2.100 = 3.780 | C197: EA | D197: 2 | F197: =TRUNC(E197*D197, 0) -> 0 | H197: =TRUNC(G197*D197, 0) -> 0 | J197: =TRUNC(I197*D197, 0) -> 0 | K197: =TRUNC(E197+G197+I197, 0) -> 0 | L197: =TRUNC(F197+H197+J197, 0) -> 0 | N197: 59825544FF5CD1567DA3F3882EEF50 | Q197: 010109 | R197: T | S197: F | T197: F | AU197: 01010959825544FF5CD1567DA3F3882EEF50 | AV197: 147
A198: PW01[115mm미서기창]/방충망포함 | B198: 1.800 x 1.100 = 1.980 | C198: EA | D198: 12 | F198: =TRUNC(E198*D198, 0) -> 0 | H198: =TRUNC(G198*D198, 0) -> 0 | J198: =TRUNC(I198*D198, 0) -> 0 | K198: =TRUNC(E198+G198+I198, 0) -> 0 | L198: =TRUNC(F198+H198+J198, 0) -> 0 | N198: 59825544FF5CD1567DA3F3882EEC9B | Q198: 010109 | R198: T | S198: F | T198: F | AU198: 01010959825544FF5CD1567DA3F3882EEC9B | AV198: 148
A199: SLD01[반자동도어] | B199: 2.565 x 2.300 = 5.899 | C199: EA | D199: 9 | F199: =TRUNC(E199*D199, 0) -> 0 | H199: =TRUNC(G199*D199, 0) -> 0 | J199: =TRUNC(I199*D199, 0) -> 0 | K199: =TRUNC(E199+G199+I199, 0) -> 0 | L199: =TRUNC(F199+H199+J199, 0) -> 0 | N199: 5833D582A457F9E676C823512D3B5261E1B006 | Q199: 010109 | R199: F | S199: F | T199: T | AU199: 0101095833D582A457F9E676C823512D3B5261E1B006 | AV199: 136
A200: SLD02[노출슬라이딩도어] | B200: 0.850 x 2.100 = 1.785 | C200: EA | D200: 10 | F200: =TRUNC(E200*D200, 0) -> 0 | H200: =TRUNC(G200*D200, 0) -> 0 | J200: =TRUNC(I200*D200, 0) -> 0 | K200: =TRUNC(E200+G200+I200, 0) -> 0 | L200: =TRUNC(F200+H200+J200, 0) -> 0 | N200: 5833D582A457F9E676C823512D3B5261E1B001 | Q200: 010109 | R200: F | S200: F | T200: T | AU200: 0101095833D582A457F9E676C823512D3B5261E1B001 | AV200: 137
A201: SLD03[포켓도어,창문형] | B201: 2.000 x 2.300 = 4.600 | C201: EA | D201: 2 | F201: =TRUNC(E201*D201, 0) -> 0 | H201: =TRUNC(G201*D201, 0) -> 0 | J201: =TRUNC(I201*D201, 0) -> 0 | K201: =TRUNC(E201+G201+I201, 0) -> 0 | L201: =TRUNC(F201+H201+J201, 0) -> 0 | N201: 5833D582A457F9E676C823512D3B5261E1B000 | Q201: 010109 | R201: F | S201: F | T201: T | AU201: 0101095833D582A457F9E676C823512D3B5261E1B000 | AV201: 138
A202: SLD04[포켓도어,막힘형] | B202: 2.000 x 2.300 = 4.600 | C202: EA | D202: 1 | F202: =TRUNC(E202*D202, 0) -> 0 | H202: =TRUNC(G202*D202, 0) -> 0 | J202: =TRUNC(I202*D202, 0) -> 0 | K202: =TRUNC(E202+G202+I202, 0) -> 0 | L202: =TRUNC(F202+H202+J202, 0) -> 0 | N202: 5833D582A457F9E676C823512D3B5261E1B003 | Q202: 010109 | R202: F | S202: F | T202: T | AU202: 0101095833D582A457F9E676C823512D3B5261E1B003 | AV202: 139
A203: SSD01[1.5*45*100,헤어라인] | B203: 2.750 x 2.500 = 6.875 | C203: EA | D203: 1 | F203: =TRUNC(E203*D203, 0) -> 0 | H203: =TRUNC(G203*D203, 0) -> 0 | J203: =TRUNC(I203*D203, 0) -> 0 | K203: =TRUNC(E203+G203+I203, 0) -> 0 | L203: =TRUNC(F203+H203+J203, 0) -> 0 | N203: 5833D582A457F9E676C823512D3B5261E1B002 | Q203: 010109 | R203: F | S203: F | T203: T | AU203: 0101095833D582A457F9E676C823512D3B5261E1B002 | AV203: 140
A204: WD01[철재문틀1.6*45*100] | B204: 0.750 x 2.100 = 1.575 | C204: EA | D204: 1 | F204: =TRUNC(E204*D204, 0) -> 0 | H204: =TRUNC(G204*D204, 0) -> 0 | J204: =TRUNC(I204*D204, 0) -> 0 | K204: =TRUNC(E204+G204+I204, 0) -> 0 | L204: =TRUNC(F204+H204+J204, 0) -> 0 | N204: 59825544FF5CD1567DA3F3882EE820 | Q204: 010109 | R204: T | S204: F | T204: F | AU204: 01010959825544FF5CD1567DA3F3882EE820 | AV204: 118
A205: FW1/배연창개폐기(HW-900D) | B205: 케이스먼트 TYPE | C205: SET | D205: 2 | F205: =TRUNC(E205*D205, 0) -> 0 | H205: =TRUNC(G205*D205, 0) -> 0 | J205: =TRUNC(I205*D205, 0) -> 0 | K205: =TRUNC(E205+G205+I205, 0) -> 0 | L205: =TRUNC(F205+H205+J205, 0) -> 0 | N205: 5833D582A457F9E676C823512D3B5261E1B12D | Q205: 010109 | R205: F | S205: F | T205: T | AU205: 0101095833D582A457F9E676C823512D3B5261E1B12D | AV205: 103
A206: FW1/배연창전원반 | C206: SET | D206: 1 | F206: =TRUNC(E206*D206, 0) -> 0 | H206: =TRUNC(G206*D206, 0) -> 0 | J206: =TRUNC(I206*D206, 0) -> 0 | K206: =TRUNC(E206+G206+I206, 0) -> 0 | L206: =TRUNC(F206+H206+J206, 0) -> 0 | N206: 5833D582A457F9E676C823512D3B5261E1B12E | Q206: 010109 | R206: F | S206: F | T206: T | AU206: 0101095833D582A457F9E676C823512D3B5261E1B12E | AV206: 104
A208: 자동문시스템-편개형 | B208: 12mm 강화유리문포함 | C208: SET | D208: 1 | F208: =TRUNC(E208*D208, 0) -> 0 | H208: =TRUNC(G208*D208, 0) -> 0 | J208: =TRUNC(I208*D208, 0) -> 0 | K208: =TRUNC(E208+G208+I208, 0) -> 0 | L208: =TRUNC(F208+H208+J208, 0) -> 0 | M208: 시공도 | N208: 5EA6257F855C66A61D0313A220B5A33915F458 | Q208: 010109 | R208: F | S208: F | T208: T | AU208: 0101095EA6257F855C66A61D0313A220B5A33915F458 | AV208: 36
A209: 도어클로저 | B209: 도어클로저, K-2830, KS3호, 고급방화, 40∼65kg | C209: 조 | D209: 4 | F209: =TRUNC(E209*D209, 0) -> 0 | H209: =TRUNC(G209*D209, 0) -> 0 | J209: =TRUNC(I209*D209, 0) -> 0 | K209: =TRUNC(E209+G209+I209, 0) -> 0 | L209: =TRUNC(F209+H209+J209, 0) -> 0 | N209: 5EA6257F855C66A61D07F3772D6322A01F7DAF | Q209: 010109 | R209: F | S209: F | T209: T | AU209: 0101095EA6257F855C66A61D07F3772D6322A01F7DAF | AV209: 141
A210: 도어힌지 | B210: 도어힌지, 황동, 베어링2개, 101.6*2.7mm | C210: 개 | D210: 3 | F210: =TRUNC(E210*D210, 0) -> 0 | H210: =TRUNC(G210*D210, 0) -> 0 | J210: =TRUNC(I210*D210, 0) -> 0 | K210: =TRUNC(E210+G210+I210, 0) -> 0 | L210: =TRUNC(F210+H210+J210, 0) -> 0 | N210: 5EA635054B530ED6616A13DD23A1C3B14C2B75 | Q210: 010109 | R210: F | S210: F | T210: T | AU210: 0101095EA635054B530ED6616A13DD23A1C3B14C2B75 | AV210: 43
A211: 피벗힌지 | B211: 피벗힌지, 100kg, 방화문용 | C211: 조 | D211: 4 | F211: =TRUNC(E211*D211, 0) -> 0 | H211: =TRUNC(G211*D211, 0) -> 0 | J211: =TRUNC(I211*D211, 0) -> 0 | K211: =TRUNC(E211+G211+I211, 0) -> 0 | L211: =TRUNC(F211+H211+J211, 0) -> 0 | N211: 5EA635054B530ED6616A13DD23A1C56EA6671A | Q211: 010109 | R211: F | S211: F | T211: T | AU211: 0101095EA635054B530ED6616A13DD23A1C56EA6671A | AV211: 142
A212: 도어핸들 | B212: 도어핸들, 9000PB, 레바형 | C212: 조 | D212: 5 | F212: =TRUNC(E212*D212, 0) -> 0 | H212: =TRUNC(G212*D212, 0) -> 0 | J212: =TRUNC(I212*D212, 0) -> 0 | K212: =TRUNC(E212+G212+I212, 0) -> 0 | L212: =TRUNC(F212+H212+J212, 0) -> 0 | N212: 5EA635054B530E16B04133F426E6619F3F9AF2 | Q212: 010109 | R212: F | S212: F | T212: T | AU212: 0101095EA635054B530E16B04133F426E6619F3F9AF2 | AV212: 44
A213: 도어스톱 | B213: 도어스톱, 일자형 120mm | C213: 개 | D213: 4 | F213: =TRUNC(E213*D213, 0) -> 0 | H213: =TRUNC(G213*D213, 0) -> 0 | J213: =TRUNC(I213*D213, 0) -> 0 | K213: =TRUNC(E213+G213+I213, 0) -> 0 | L213: =TRUNC(F213+H213+J213, 0) -> 0 | N213: 5EA635054B530E16B04133F426EEBCF952E82D | Q213: 010109 | R213: F | S213: F | T213: T | AU213: 0101095EA635054B530E16B04133F426EEBCF952E82D | AV213: 143
A214: 도아록설치 | B214: 목재문, 재료비 별도 | C214: 개소 | D214: 1 | F214: =TRUNC(E214*D214, 0) -> 0 | H214: =TRUNC(G214*D214, 0) -> 0 | J214: =TRUNC(I214*D214, 0) -> 0 | K214: =TRUNC(E214+G214+I214, 0) -> 0 | L214: =TRUNC(F214+H214+J214, 0) -> 0 | N214: 59825543D95C996613EBB3282BFB14 | Q214: 010109 | R214: T | S214: F | T214: F | AU214: 01010959825543D95C996613EBB3282BFB14 | AV214: 55
A215: 도아록설치 | B215: 강재문, 재료비 별도 | C215: 개소 | D215: 4 | F215: =TRUNC(E215*D215, 0) -> 0 | H215: =TRUNC(G215*D215, 0) -> 0 | J215: =TRUNC(I215*D215, 0) -> 0 | K215: =TRUNC(E215+G215+I215, 0) -> 0 | L215: =TRUNC(F215+H215+J215, 0) -> 0 | N215: 59825543D95C996613E8F3EC22204C | Q215: 010109 | R215: T | S215: F | T215: F | AU215: 01010959825543D95C996613E8F3EC22204C | AV215: 144
A216: 도아체크달기 | B216: 재료비 별도 | C216: 개소 | D216: 4 | F216: =TRUNC(E216*D216, 0) -> 0 | H216: =TRUNC(G216*D216, 0) -> 0 | J216: =TRUNC(I216*D216, 0) -> 0 | K216: =TRUNC(E216+G216+I216, 0) -> 0 | L216: =TRUNC(F216+H216+J216, 0) -> 0 | N216: 59825543D95CC6B69BE0B35D228776 | Q216: 010109 | R216: T | S216: F | T216: F | AU216: 01010959825543D95CC6B69BE0B35D228776 | AV216: 145
A217: 창문틀 주위 충전 | B217: 모르타르 충전 | C217: M | D217: 12 | F217: =TRUNC(E217*D217, 0) -> 0 | H217: =TRUNC(G217*D217, 0) -> 0 | J217: =TRUNC(I217*D217, 0) -> 0 | K217: =TRUNC(E217+G217+I217, 0) -> 0 | L217: =TRUNC(F217+H217+J217, 0) -> 0 | N217: 59825543DC59E1C6BDCB63C52D27D5 | Q217: 010109 | R217: T | S217: F | T217: F | AU217: 01010959825543DC59E1C6BDCB63C52D27D5 | AV217: 146
A218: 창문틀 주위 충전 | B218: 발포우레탄 | C218: M | D218: 9 | F218: =TRUNC(E218*D218, 0) -> 0 | H218: =TRUNC(G218*D218, 0) -> 0 | J218: =TRUNC(I218*D218, 0) -> 0 | K218: =TRUNC(E218+G218+I218, 0) -> 0 | L218: =TRUNC(F218+H218+J218, 0) -> 0 | N218: 59825543DC59E1D6449ED31329544A | Q218: 010109 | R218: T | S218: F | T218: F | AU218: 01010959825543DC59E1D6449ED31329544A | AV218: 56
A219: [ 합 계 ] | F219: =SUM(F197:F218) -> 0 | H219: =SUM(H197:H218) -> 0 | J219: =SUM(J197:J218) -> 0 | L219: =SUM(L197:L218) -> 0 | N219: TOTAL
A220: 010110 유 리 공 사 | Q220: 010110
A221: 강화유리 | B221: 강화유리, 투명, 10mm | C221: M2 | D221: 2 | F221: =TRUNC(E221*D221, 0) -> 0 | H221: =TRUNC(G221*D221, 0) -> 0 | J221: =TRUNC(I221*D221, 0) -> 0 | K221: =TRUNC(E221+G221+I221, 0) -> 0 | L221: =TRUNC(F221+H221+J221, 0) -> 0 | N221: 5EA6257F855C66866FA1E3A529D5378B26A20C | Q221: 010110 | R221: F | S221: F | T221: T | AU221: 0101105EA6257F855C66866FA1E3A529D5378B26A20C | AV221: 58
A222: 방화유리 | B222: 8.0mm | C222: M2 | D222: 4 | F222: =TRUNC(E222*D222, 0) -> 0 | H222: =TRUNC(G222*D222, 0) -> 0 | J222: =TRUNC(I222*D222, 0) -> 0 | K222: =TRUNC(E222+G222+I222, 0) -> 0 | L222: =TRUNC(F222+H222+J222, 0) -> 0 | N222: 5EA6257F855C66866FAF435623F4A31784F8B1 | Q222: 010110 | R222: F | S222: F | T222: T | AU222: 0101105EA6257F855C66866FAF435623F4A31784F8B1 | AV222: 59
A223: 복층유리 | B223: 복층유리, 로이, 투명, 24mm | C223: M2 | D223: 24 | F223: =TRUNC(E223*D223, 0) -> 0 | H223: =TRUNC(G223*D223, 0) -> 0 | J223: =TRUNC(I223*D223, 0) -> 0 | K223: =TRUNC(E223+G223+I223, 0) -> 0 | L223: =TRUNC(F223+H223+J223, 0) -> 0 | N223: 5EA6257F855C6686664D739A262F446B24C556 | Q223: 010110 | R223: F | S223: F | T223: T | AU223: 0101105EA6257F855C6686664D739A262F446B24C556 | AV223: 123
A224: 유리끼우기 - 판유리 | B224: 10mm 미만 | C224: M2 | D224: 4 | F224: =TRUNC(E224*D224, 0) -> 0 | H224: =TRUNC(G224*D224, 0) -> 0 | J224: =TRUNC(I224*D224, 0) -> 0 | K224: =TRUNC(E224+G224+I224, 0) -> 0 | L224: =TRUNC(F224+H224+J224, 0) -> 0 | N224: 59825542305D30F64BCCB3342B14D5 | Q224: 010110 | R224: T | S224: F | T224: F | AU224: 01011059825542305D30F64BCCB3342B14D5 | AV224: 60
A225: 유리끼우기 - 판유리 | B225: 10mm 이상 | C225: M2 | D225: 2 | F225: =TRUNC(E225*D225, 0) -> 0 | H225: =TRUNC(G225*D225, 0) -> 0 | J225: =TRUNC(I225*D225, 0) -> 0 | K225: =TRUNC(E225+G225+I225, 0) -> 0 | L225: =TRUNC(F225+H225+J225, 0) -> 0 | N225: 59825542305D30F64BCCB3342B13CE | Q225: 010110 | R225: T | S225: F | T225: F | AU225: 01011059825542305D30F64BCCB3342B13CE | AV225: 61
A226: 유리끼우기 - 복층유리, 일반창호 | B226: 24mm(6+12A+6) | C226: M2 | D226: 24 | F226: =TRUNC(E226*D226, 0) -> 0 | H226: =TRUNC(G226*D226, 0) -> 0 | J226: =TRUNC(I226*D226, 0) -> 0 | K226: =TRUNC(E226+G226+I226, 0) -> 0 | L226: =TRUNC(F226+H226+J226, 0) -> 0 | N226: 5982554DDC5771F66259F3B2246080 | Q226: 010110 | R226: T | S226: F | T226: F | AU226: 0101105982554DDC5771F66259F3B2246080 | AV226: 124
A227: 복층유리주위코킹 | B227: 5*5, 실리콘 | C227: M | D227: 192 | F227: =TRUNC(E227*D227, 0) -> 0 | H227: =TRUNC(G227*D227, 0) -> 0 | J227: =TRUNC(I227*D227, 0) -> 0 | K227: =TRUNC(E227+G227+I227, 0) -> 0 | L227: =TRUNC(F227+H227+J227, 0) -> 0 | N227: 5982554DD55C1A16AADBA3A1209723 | Q227: 010110 | R227: T | S227: F | T227: F | AU227: 0101105982554DD55C1A16AADBA3A1209723 | AV227: 125
A243: [ 합 계 ] | F243: =SUM(F221:F242) -> 0 | H243: =SUM(H221:H242) -> 0 | J243: =SUM(J221:J242) -> 0 | L243: =SUM(L221:L242) -> 0 | N243: TOTAL
A244: 010111 칠 공 사 | Q244: 010111
A245: 걸레받이용 페인트 | B245: 붓칠, 2회 | C245: M2 | D245: 16 | F245: =TRUNC(E245*D245, 0) -> 0 | H245: =TRUNC(G245*D245, 0) -> 0 | J245: =TRUNC(I245*D245, 0) -> 0 | K245: =TRUNC(E245+G245+I245, 0) -> 0 | L245: =TRUNC(F245+H245+J245, 0) -> 0 | N245: 59827590E650A066445793CF204B39 | Q245: 010111 | R245: T | S245: F | T245: F | AU245: 01011159827590E650A066445793CF204B39 | AV245: 63
A246: 수성페인트(롤러칠) | B246: 내부, 2회, 친환경페인트(POP) | C246: M2 | D246: 373 | F246: =TRUNC(E246*D246, 0) -> 0 | H246: =TRUNC(G246*D246, 0) -> 0 | J246: =TRUNC(I246*D246, 0) -> 0 | K246: =TRUNC(E246+G246+I246, 0) -> 0 | L246: =TRUNC(F246+H246+J246, 0) -> 0 | N246: 598275918A522DC6ECDA632420456F | Q246: 010111 | R246: T | S246: F | T246: F | AU246: 010111598275918A522DC6ECDA632420456F | AV246: 64
A247: 바탕만들기+수성페인트(롤러칠) | B247: 내부, 2회, 석고보드면(줄퍼티), 친환경페인트(POP) | C247: M2 | D247: 18 | F247: =TRUNC(E247*D247, 0) -> 0 | H247: =TRUNC(G247*D247, 0) -> 0 | J247: =TRUNC(I247*D247, 0) -> 0 | K247: =TRUNC(E247+G247+I247, 0) -> 0 | L247: =TRUNC(F247+H247+J247, 0) -> 0 | N247: 598275918A522DC6ECDA63402D32B7 | Q247: 010111 | R247: T | S247: F | T247: F | AU247: 010111598275918A522DC6ECDA63402D32B7 | AV247: 65
A267: [ 합 계 ] | F267: =SUM(F245:F266) -> 0 | H267: =SUM(H245:H266) -> 0 | J267: =SUM(J245:J266) -> 0 | L267: =SUM(L245:L266) -> 0 | N267: TOTAL
A268: 010112 수 장 공 사 | Q268: 010112
A269: 인테리어필름 | B269: 0.2*1.22, 방염 | C269: M2 | D269: 107 | F269: =TRUNC(E269*D269, 0) -> 0 | H269: =TRUNC(G269*D269, 0) -> 0 | J269: =TRUNC(I269*D269, 0) -> 0 | K269: =TRUNC(E269+G269+I269, 0) -> 0 | L269: =TRUNC(F269+H269+J269, 0) -> 0 | N269: 5EA6257F84521D16925D33AC264A9B204CB795 | Q269: 010112 | R269: F | S269: F | T269: T | AU269: 0101125EA6257F84521D16925D33AC264A9B204CB795 | AV269: 67
A270: 열경화성수지천장재(클립바포함) | B270: SMC, 1.2*300*300mm | C270: M2 | D270: 122 | F270: =TRUNC(E270*D270, 0) -> 0 | H270: =TRUNC(G270*D270, 0) -> 0 | J270: =TRUNC(I270*D270, 0) -> 0 | K270: =TRUNC(E270+G270+I270, 0) -> 0 | L270: =TRUNC(F270+H270+J270, 0) -> 0 | M270: 시공도 | N270: 5EA6257F84521D26B859632520A62032BD7AAD | Q270: 010112 | R270: F | S270: F | T270: T | AU270: 0101125EA6257F84521D26B859632520A62032BD7AAD | AV270: 68
A271: 화장실칸막이 | B271: 20T,PB | C271: M2 | D271: 8 | F271: =TRUNC(E271*D271, 0) -> 0 | H271: =TRUNC(G271*D271, 0) -> 0 | J271: =TRUNC(I271*D271, 0) -> 0 | K271: =TRUNC(E271+G271+I271, 0) -> 0 | L271: =TRUNC(F271+H271+J271, 0) -> 0 | N271: 5EA6257F8A549B56D222234724A671B4089F05 | Q271: 010112 | R271: F | S271: F | T271: T | AU271: 0101125EA6257F8A549B56D222234724A671B4089F05 | AV271: 158
A272: 소변기칸막이 | B272: 강화유리(에칭),450*1200*8mm | C272: EA | D272: 2 | F272: =TRUNC(E272*D272, 0) -> 0 | H272: =TRUNC(G272*D272, 0) -> 0 | J272: =TRUNC(I272*D272, 0) -> 0 | K272: =TRUNC(E272+G272+I272, 0) -> 0 | L272: =TRUNC(F272+H272+J272, 0) -> 0 | N272: 5EA6257F8A549B56D222234724A671B47FC5D5 | Q272: 010112 | R272: F | S272: F | T272: T | AU272: 0101125EA6257F8A549B56D222234724A671B47FC5D5 | AV272: 159
A273: 장애인접이식도어 | C273: SET | D273: 2 | F273: =TRUNC(E273*D273, 0) -> 0 | H273: =TRUNC(G273*D273, 0) -> 0 | J273: =TRUNC(I273*D273, 0) -> 0 | K273: =TRUNC(E273+G273+I273, 0) -> 0 | L273: =TRUNC(F273+H273+J273, 0) -> 0 | N273: 5EA6257F8A549B56D222234724A671B4089A8A | Q273: 010112 | R273: F | S273: F | T273: T | AU273: 0101125EA6257F8A549B56D222234724A671B4089A8A | AV273: 160
A274: 롤스크린(더블콤비) | B274: (방염), 관공서용 | C274: M2 | D274: 26 | F274: =TRUNC(E274*D274, 0) -> 0 | H274: =TRUNC(G274*D274, 0) -> 0 | J274: =TRUNC(I274*D274, 0) -> 0 | K274: =TRUNC(E274+G274+I274, 0) -> 0 | L274: =TRUNC(F274+H274+J274, 0) -> 0 | N274: 5EC125867256FE063466937C2157F1E37A0BE4 | Q274: 010112 | R274: F | S274: F | T274: T | AU274: 0101125EC125867256FE063466937C2157F1E37A0BE4 | AV274: 126
A275: 비닐시트 깔기 | B275: 2.0mm , 옵티마IQ | C275: M2 | D275: 599 | F275: =TRUNC(E275*D275, 0) -> 0 | H275: =TRUNC(G275*D275, 0) -> 0 | J275: =TRUNC(I275*D275, 0) -> 0 | K275: =TRUNC(E275+G275+I275, 0) -> 0 | L275: =TRUNC(F275+H275+J275, 0) -> 0 | M275: 시공도 | N275: 5833D582A457F9E676C823512D3B5261E1B128 | Q275: 010112 | R275: F | S275: F | T275: T | AU275: 0101125833D582A457F9E676C823512D3B5261E1B128 | AV275: 122
A276: 도배 - 합판·석고보드면 | B276: 벽, 비닐벽지, 실크형, B급 | C276: M2 | D276: 468 | F276: =TRUNC(E276*D276, 0) -> 0 | H276: =TRUNC(G276*D276, 0) -> 0 | J276: =TRUNC(I276*D276, 0) -> 0 | K276: =TRUNC(E276+G276+I276, 0) -> 0 | L276: =TRUNC(F276+H276+J276, 0) -> 0 | N276: 598265AE2D573CC6E7A0937623755E | Q276: 010112 | R276: T | S276: F | T276: F | AU276: 010112598265AE2D573CC6E7A0937623755E | AV276: 70
A277: 천정흡음텍스붙임 | B277: 12*300*600 | C277: M2 | D277: 723 | F277: =TRUNC(E277*D277, 0) -> 0 | H277: =TRUNC(G277*D277, 0) -> 0 | J277: =TRUNC(I277*D277, 0) -> 0 | K277: =TRUNC(E277+G277+I277, 0) -> 0 | L277: =TRUNC(F277+H277+J277, 0) -> 0 | N277: 598265AF325B4576AF3093EB2833B0 | Q277: 010112 | R277: T | S277: F | T277: F | AU277: 010112598265AF325B4576AF3093EB2833B0 | AV277: 119
A278: 석고판 붙임 | B278: 벽, 9.5mm * 2겹 | C278: M2 | D278: 555 | F278: =TRUNC(E278*D278, 0) -> 0 | H278: =TRUNC(G278*D278, 0) -> 0 | J278: =TRUNC(I278*D278, 0) -> 0 | K278: =TRUNC(E278+G278+I278, 0) -> 0 | L278: =TRUNC(F278+H278+J278, 0) -> 0 | N278: 598265AF315AE0A6947A23592BE46D | Q278: 010112 | R278: T | S278: F | T278: F | AU278: 010112598265AF315AE0A6947A23592BE46D | AV278: 73
...

Sheet 일위대가목록
A1: 일 위 대 가 목 록
A2: [ 서산노인전문병원치매요양병원리모델링공사 ]
A3: 코 드 | B3: 품 명 | C3: 규 격 | D3: 단위 | E3: 재 료 비 | F3: 노 무 비 | G3: 경 비 | H3: 합 계 | I3: 번 호 | J3: 비 고 | K3: 노임계수 | L3: 할증 | M3: 품셈개요 | N3: 장비일위
A4: 598285F8665D55764BE8D3CB2C879E | B4: 강관 조립말비계(이동식) | C4: 높이 2m, 3개월 | D4: 대 | I4: 호표 1 | J4: 건축 2-6-4, 6 | M4: 건축 2-6-4, 6
A5: 598285FDE75C1486F266D360291BDC | B5: 건축물현장정리 | C5: 보수및리모델링 | D5: M2 | I5: 호표 2
A6: 5982F549DB5B05F63937D35024A5E4 | B6: 0.5B 벽돌쌓기 | C6: 3.6m 이하 | D6: 천매 | I6: 호표 3 | J6: 건축 8-1-2 | M6: 건축 8-1-2
A7: 5982F549DB5B05D60CC01389276DA8 | B7: 1.0B 벽돌쌓기 | C7: 3.6m 이하 | D7: 천매 | I7: 호표 4 | J7: 건축 8-1-2 | M7: 건축 8-1-2
A8: 5982F549DB5B05B65F0CC3132FA02E | B8: 1.5B 벽돌쌓기 | C8: 3.6m 이하 | D8: 천매 | I8: 호표 5 | J8: 건축 8-1-2 | M8: 건축 8-1-2
A9: 5982F549D9582436E0C983752D40C9 | B9: 벽돌 운반 | C9: 인력, 5층 | D9: 천매 | I9: 호표 6 | J9: 건축 8-2 | M9: 건축 8-2
A10: 5982F55A0850CA46054BF39828BC55 | B10: 실외기패드설치 | C10: 2900*1200*200 | D10: EA | I10: 호표 7 | J10: 토목 6-1,2,3 | M10: 토목 6-1,2,3
A11: 5982455F53545BD64054E33C2BCBC3 | B11: 도기질타일압착붙임(바탕 18mm+압 6mm) | C11: 벽, 200*250(일반C, 백색줄눈) | D11: M2 | I11: 호표 8
A12: 5982455F51597C166028D3072798CE | B12: 자기질타일압착붙임(바탕 51mm+압 5mm) | C12: 바닥, 200*200 | D12: M2 | I12: 호표 9
A13: 5982455C99577F263ED8737626DB03 | B13: 화강석붙임(습식, 물갈기) | C13: 창대, 포천석 150*30mm, 모르타르 30mm | D13: M | I13: 호표 10 | J13: 건축 9-1-1 | M13: 건축 9-1-1
A14: 5982455C99577F263ED8735B25ABDD | B14: 화강석붙임(습식, 물갈기) | C14: 창대, 포천석 300*30mm, 모르타르 30mm | D14: M | I14: 호표 11 | J14: 건축 9-1-1 | M14: 건축 9-1-1
A15: 598265AD03597B267AC5535125726F | B15: 조경박스설치 | C15: 7500*720*H250 | D15: EA | I15: 호표 12
A16: 598265AD03597B267AC55351257269 | B16: 목질걸레받이 붙임 | C16: T=9,H=100, 인테리어필름 | D16: M | I16: 호표 13
A17: 598265AF325B72F6E83983CC25D131 | B17: 벽, MDF붙임 | C17: 9.0mm | D17: M2 | I17: 호표 14 | J17: 건축 11-1-3.3 | M17: 건축 11-1-3.3
A18: 598265AD03597B267AC5535125726E | B18: 허리몰딩설치(MDF평몰딩) | C18: 9*20,인테리어필름 | D18: M | I18: 호표 15
A19: 5982152C105711B6E9F0C31E2CA67D | B19: 수밀코킹(실리콘) | C19: 삼각, 10mm, 창호주위 | D19: M | I19: 호표 16 | J19: 건축 12-3-1 | M19: 건축 12-3-1
A20: 598215233659DBA67D0ED3BA26DD08 | B20: 시멘트 액체방수 | C20: 바닥 | D20: M2 | I20: 호표 17 | J20: 건축 12-2-3.1 | M20: 건축 12-2-3.1
A21: 59821523375A4AB62D92133C20B086 | B21: 시멘트 액체방수 | C21: 벽 | D21: M2 | I21: 호표 18 | J21: 건축 12-2-3.1 | M21: 건축 12-2-3.1
A22: 5982E56BFC520B56CE926370203C4E | B22: 타일벽코너가드 | C22: 스텐1.2t*10*10 | D22: M | I22: 호표 19
A23: 59823570C75DB5864ECF63D129CEDE | B23: 트렌치(하부스텐1.5T) | C23: 스텐,W150*H100*3t,SST | D23: M | I23: 호표 20
A24: 5982357EA0554636C85823E028AE56 | B24: 경량 천장 철골틀 | C24: M-BAR | D24: M2 | I24: 호표 21 | J24: 건축 14-4 | M24: 건축 14-4
A25: 5982357CF05CB666D1A2F34928E353 | B25: 스테인리스공프레임 | C25: W160*1.2t(코킹 5*5) | D25: M | I25: 호표 22
A26: 598265AB59590B469AAE537D260806 | B26: 스테인리스재료분리대 | C26: 바닥, W45*H20*1.5t | D26: M | I26: 호표 23
A27: 598265A428516056385E932B20374B | B27: 철재커텐박스(ㄱ자형) | C27: 150*150*1.2t, STL(도장 유) | D27: M | I27: 호표 24
A28: 598265A4285157E666F9B38B241555 | B28: 철재커텐박스(ㄷ자형) | C28: 150*150*1.2t, STL(도장 유) | D28: M | I28: 호표 25
A29: 598265A5325DD016B9B8830C2EC992 | B29: AL몰딩설치(W형) | C29: 15*15*15*15*1.0mm | D29: M | I29: 호표 26 | J29: 건축 14-7 | M29: 건축 14-7
A30: 598265A5325DD016B78BA3BB27902A | B30: AL몰딩설치(ㄷ형) | C30: 15*30*15*1.3mm | D30: M | I30: 호표 27 | J30: 건축 14-7 | M30: 건축 14-7
A31: 598265A5325DD006983653D62B8676 | B31: MDF간접등박스 | C31: MDF18mm, H:200/인테리어필름마감 | D31: M | I31: 호표 28
A32: 5982D57C6C5197C627E203FB2ADA97 | B32: 경량기포 콘크리트 타설 | D32: M3 | I32: 호표 29 | J32: 건축 6-1-3 | M32: 건축 6-1-3
A33: 5982E560D35F1BC6DF4B83A22A571F | B33: 모르타르 바름 | C33: 내벽, 13mm ,전기배선부 보수포함 | D33: M2 | I33: 호표 30
A34: 5982E560D35F3686891D2333237B3E | B34: 모르타르 바름 | C34: 바닥, 30mm | D34: M2 | I34: 호표 31 | J34: 건축 10-1 준용 | M34: 건축 10-1 준용
A35: 59825544FF5CD1567DA3F3882EEF50 | B35: FSD01[1.6*45*150,분체도장] | C35: 1.800 x 2.100 = 3.780 | D35: EA | I35: 호표 32
A36: 59825544FF5CD1567DA3F3882EEC9B | B36: PW01[115mm미서기창]/방충망포함 | C36: 1.800 x 1.100 = 1.980 | D36: EA | I36: 호표 33
A37: 59825544FF5CD1567DA3F3882EE820 | B37: WD01[철재문틀1.6*45*100] | C37: 0.750 x 2.100 = 1.575 | D37: EA | I37: 호표 34
A38: 59825543D95C996613EBB3282BFB14 | B38: 도아록설치 | C38: 목재문, 재료비 별도 | D38: 개소 | I38: 호표 35 | J38: 건축 16-2 | M38: 건축 16-2
A39: 59825543D95C996613E8F3EC22204C | B39: 도아록설치 | C39: 강재문, 재료비 별도 | D39: 개소 | I39: 호표 36 | J39: 건축 16-2 | M39: 건축 16-2
A40: 59825543D95CC6B69BE0B35D228776 | B40: 도아체크달기 | C40: 재료비 별도 | D40: 개소 | I40: 호표 37 | J40: 건축 16-2 | M40: 건축 16-2
A41: 59825543DC59E1C6BDCB63C52D27D5 | B41: 창문틀 주위 충전 | C41: 모르타르 충전 | D41: M | I41: 호표 38 | J41: 건축 16-3-1 | M41: 건축 16-3-1
A42: 59825543DC59E1D6449ED31329544A | B42: 창문틀 주위 충전 | C42: 발포우레탄 | D42: M | I42: 호표 39 | J42: 건축 16-3-2 | M42: 건축 16-3-2
A43: 59825542305D30F64BCCB3342B14D5 | B43: 유리끼우기 - 판유리 | C43: 10mm 미만 | D43: M2 | I43: 호표 40 | J43: 건축 16-5-1 | M43: 건축 16-5-1
A44: 59825542305D30F64BCCB3342B13CE | B44: 유리끼우기 - 판유리 | C44: 10mm 이상 | D44: M2 | I44: 호표 41 | J44: 건축 16-5-1 | M44: 건축 16-5-1
A45: 5982554DDC5771F66259F3B2246080 | B45: 유리끼우기 - 복층유리, 일반창호 | C45: 24mm(6+12A+6) | D45: M2 | I45: 호표 42 | J45: 건축 16-5-2 | M45: 건축 16-5-2
A46: 5982554DD55C1A16AADBA3A1209723 | B46: 복층유리주위코킹 | C46: 5*5, 실리콘 | D46: M | I46: 호표 43 | J46: 건축 12-12-1 | M46: 건축 12-12-1
A47: 59827590E650A066445793CF204B39 | B47: 걸레받이용 페인트 | C47: 붓칠, 2회 | D47: M2 | I47: 호표 44 | J47: 건축 17-9 | M47: 건축 17-9
A48: 598275918A522DC6ECDA632420456F | B48: 수성페인트(롤러칠) | C48: 내부, 2회, 친환경페인트(POP) | D48: M2 | I48: 호표 45 | J48: 건축 17-2-2 | M48: 건축 17-2-2
A49: 598275918A522DC6ECDA63402D32B7 | B49: 바탕만들기+수성페인트(롤러칠) | C49: 내부, 2회, 석고보드면(줄퍼티), 친환경페인트(POP) | D49: M2 | I49: 호표 46 | J49: 건축 17-2-2 | M49: 건축 17-2-2
A50: 598265AE2D573CC6E7A0937623755E | B50: 도배 - 합판·석고보드면 | C50: 벽, 비닐벽지, 실크형, B급 | D50: M2 | I50: 호표 47 | J50: 건축 11-3-3 | M50: 건축 11-3-3
A51: 598265AF325B4576AF3093EB2833B0 | B51: 천정흡음텍스붙임 | C51: 12*300*600 | D51: M2 | I51: 호표 48
A52: 598265AF315AE0A6947A23592BE46D | B52: 석고판 붙임 | C52: 벽, 9.5mm * 2겹 | D52: M2 | I52: 호표 49
A53: 598265AF315AE0A6947A23592BE464 | B53: 석고판 붙임 | C53: 벽, 방수9.5mm * 1겹 | D53: M2 | I53: 호표 50
A54: 598385642450A146CC38535E275C53 | B54: 벽돌벽 철거 | C54: 소형브레이커 | D54: M3 | I54: 호표 51
A55: 598385642E50B9467BCCC3642F7559 | B55: 바닥및벽타일철거 | C55: 몰탈포함 | D55: M2 | I55: 호표 52 | J55: 건축 18-1-1 | M55: 건축 18-1-1
A56: 598385642E50B9467BCCC33F21323E | B56: 비닐계타일 철거 | D56: M2 | I56: 호표 53 | J56: 건축 18-1-1 준용 | M56: 건축 18-1-1 준용
A57: 598385642450A146CC38535E275F24 | B57: 난방층철거(소형장비사용) | C57: 경량기포30mm+몰탈37mm | D57: M3 | I57: 호표 54
A58: 598385642E50B9467BCCC33F202FA6 | B58: 경량철골천정틀철거 | D58: M2 | I58: 호표 55 | J58: 품셈 18-1-3 | M58: 품셈 18-1-3
A59: 598385642E50B9467BCCC33F23E051 | B59: 천정텍스철거 | D59: M2 | I59: 호표 56
A60: 598385642E50B9467BCCC33F23E050 | B60: PVC천정재철거 | D60: M2 | I60: 호표 57
A61: 598385642E50B9467BCCC33F23E328 | B61: 실리콘철거 | D61: M | I61: 호표 58
A62: 598385642E50B9467BCCC33F2CDC95 | B62: 창호철거 | D62: M2 | I62: 호표 59
A63: 598385642E50B9467BCCC33F2CD9C0 | B63: 화단철거 | C63: 보통인부 | D63: 개소 | I63: 호표 60
A64: 598385642E50B9467BCCC33F2CD830 | B64: 철거재 운반 | C64: 인력 5층 | D64: 톤 | I64: 호표 61
A65: 598285F8665D55764BE8D3D422B0C5 | B65: 강관 조립말비계(이동식) - 노무비 | C65: 높이 2m, 설치, 해체비 | D65: 대 | I65: 호표 62 | J65: 건축 2-6-4, 6 | M65: 건축 2-6-4, 6
A66: 5982E560D35F0976E3C563A9289D16 | B66: 모르타르 배합(배합품 제외) | C66: 배합용적비 1:3, 시멘트, 모래 별도 | D66: M3 | I66: 호표 63 | J66: 건축 15-1-1 | M66: 건축 15-1-1
A67: 5982D57D7350DE16D7767347294298 | B67: 레디믹스트콘크리트 인력운반 타설 | C67: 철근구조물 | D67: M3 | I67: 호표 64 | J67: 건축 6-1-1.1 | M67: 건축 6-1-1.1
A68: 5982D57ABD5987969E4A835423A822 | B68: 합판거푸집 설치 및 해체 | C68: 보통 4회, 수직고 7m까지 | D68: M2 | I68: 호표 65 | J68: 건축 6-3-1 | M68: 건축 6-3-1
A69: 5982D57ABD5987969F51F37B2A568C | B69: 합판거푸집 - 자재비 | C69: 4회 | D69: M2 | I69: 호표 66 | J69: 건축 6-3-1 | M69: 건축 6-3-1
A70: 5982D57ABD5987969F50D30920D6F8 | B70: 합판거푸집 - 인력투입 | C70: 보통, 수직고 7m까지 | D70: M2 | I70: 호표 67 | J70: 건축 6-3-1 | M70: 건축 6-3-1
A71: 5982E560D35F0976E3C5639F21136E | B71: 모르타르 배합(배합품 포함) | C71: 배합용적비 1:3, 시멘트, 모래 별도 | D71: M3 | I71: 호표 68 | J71: 건축 15-1-1 | M71: 건축 15-1-1
A72: 5982455F535449960C18E3C32D3ADC | B72: 바탕고르기 | C72: 벽, 24mm 이하 기준 | D72: M2 | I72: 호표 69 | J72: 건축 10-1 | M72: 건축 10-1
A73: 5982455F51597C065938C36B29BA89 | B73: 벽, 압착바름 6mm 시공비 | C73: 0.04∼0.10 이하, 일반C, 백색줄눈 | D73: M2 | I73: 호표 70 | J73: 건축 10-2-2 | M73: 건축 10-2-2
A74: 5982E560D35F0976E3C563A9289E3D | B74: 모르타르 배합 | C74: 소운반, 모래채가름, 배합 포함 | D74: M3 | I74: 호표 71 | J74: 건축 15-1-1 | M74: 건축 15-1-1
A75: 5982E560D35F0976E3C563A9289C0F | B75: 모르타르 배합(배합품 제외) | C75: 배합용적비 1:2, 시멘트, 모래 별도 | D75: M3 | I75: 호표 72 | J75: 건축 15-1-1 | M75: 건축 15-1-1
A76: 5982455F53545BD64329637A26352F | B76: 줄눈 모르타르(배합품 제외) | C76: 배합비 1:1(백시멘트), 모래 별도 | D76: M3 | I76: 호표 73 | J76: 건축 15-1.1 | M76: 건축 15-1.1
... A84: 5982455C9D5ED18678A8F3B025E3B7 | B84: 화강석붙임 - 습식공법 | C84: 바닥, 자재 별도(시공비) | D84: M2 | I84: 호표 81 | J84: 건축 9-1-1 | M84: 건축 9-1-1
A85: 598265AF3753690669C8D33B28C9A3 | B85: 내수합판붙임 | C85: 벽, 12t | D85: M2 | I85: 호표 82
A86: 598265AF3753690669C8D33B28CD1C | B86: 벽, 합판붙임 | C86: 합판 별도 | D86: M2 | I86: 호표 83 | J86: 건축 11-1-3.3 | M86: 건축 11-1-3.3
A87: 598265AD03595876337143C12EBA5E | B87: 걸레받이 붙임 - 시공비 | C87: 중밀도섬유판, H=75~120mm 기준 | D87: M | I87: 호표 84 | J87: 건축 11-3-2 | M87: 건축 11-3-2
A88: 5982152C135C7C46A3FB73CE2732EC | B88: 수밀코킹(시공비) | C88: 재료비 별도 | D88: M | I88: 호표 85 | J88: 건축 12-3-1 | M88: 건축 12-3-1
A89: 598215233659DBA67D0ED3BA26DC63 | B89: 시멘트 액체 방수 | C89: 바닥 | D89: M2 | I89: 호표 86 | J89: 건축 12-2-3.1 | M89: 건축 12-2-3.1
A90: 598215233659DBA67D0D335024F342 | B90: 시멘트 액체 방수 | C90: 수직부 | D90: M2 | I90: 호표 87 | J90: 건축 12-2-3.1 | M90: 건축 12-2-3.1
A91: 5982357AC75B18668CC243FA2A2E17 | B91: 잡철물제작설치(철재) -강판 가공시 | C91: 간단 | D91: kg | I91: 호표 88 | J91: 건축 14-5 | M91: 건축 14-5
A92: 5982357AC75B1856EADAB38725CAA1 | B92: 잡철물제작설치(스테인리스)-강판 가공시 | C92: 간단 | D92: kg | I92: 호표 89 | J92: 건축 14-5 | M92: 건축 14-5
A93: 5982357AC75B18668F97334925757C | B93: 잡철물제작(철재) -강판 가공시 | C93: 간단 | D93: kg | I93: 호표 90 | J93: 건축 14-5 | M93: 건축 14-5
A94: 5982357AC75B18668F97335B2C1F5E | B94: 잡철물설치(철재) -강판 가공시 | C94: 간단 | D94: kg | I94: 호표 91 | J94: 건축 14-5 | M94: 건축 14-5
A95: 5982357AC75B1856E93413622CA28C | B95: 잡철물제작(스테인리스) -강판 가공시 | C95: 간단 | D95: kg | I95: 호표 92 | J95: 건축 14-5 | M95: 건축 14-5
A96: 5982357AC75B1856E93413732393BD | B96: 잡철물설치(스테인리스) -강판 가공시 | C96: 간단 | D96: kg | I96: 호표 93 | J96: 건축 14-5 | M96: 건축 14-5
A97: 5E95C513F65D39E66C1CB3BB25203E6D1F7EAEE2 | B97: 용접기(교류). | C97: 500Amp | D97: HR | I97: 호표 94 | J97: 토목 9-2(7611) | K97: A | M97: 토목 9-2(7611) | N97: T
A98: 59827593B95C3FC661BAF3CA29CC06 | B98: 녹막이페인트(붓칠) | C98: 철재면, 1회, 2종 | D98: M2 | I98: 호표 95 | J98: 건축 17-4 | M98: 건축 17-4
A99: 59827593B95C3FC66093D33C2F99BA | B99: 녹막이페인트(붓칠) - 재료비 | C99: 철재면, 1회, 2종 | D99: M2 | I99: 호표 96 | J99: 건축 17-4 | M99: 건축 17-4
A100: 59827593B95C3FC66092C3CD2DC5C3 | B100: 녹막이페인트(붓칠) - 노무비 | C100: 철재면, 1회 칠 | D100: M2 | I100: 호표 97 | J100: 건축 17-4 | M100: 건축 17-4
A101: 5982357EA0554636C85823E028AF7E | B101: 경량 천장 철골틀 - 노무비 | D101: M2 | I101: 호표 98 | J101: 건축 14-4 | M101: 건축 14-4
A102: 5982357AC75B1876979183422995D1 | B102: 잡철물제작설치(철재) | C102: 간단 | D102: kg | I102: 호표 99 | J102: 건축 14-5 | M102: 건축 14-5
A103: 5982152C125209A6E063B3C42131C0 | B103: 수밀코킹(실리콘) | C103: 삼각, 5mm이하, 방균용 | D103: M | I103: 호표 100 | J103: 건축 12-3-1 | M103: 건축 12-3-1
A104: 5982357AC75B187694DB1308271832 | B104: 잡철물제작(철재) | C104: 간단 | D104: kg | I104: 호표 101 | J104: 건축 14-5 | M104: 건축 14-5
A105: 5982357AC75B187694DB131A2E21F4 | B105: 잡철물설치(철재) | C105: 간단 | D105: kg | I105: 호표 102 | J105: 건축 14-5 | M105: 건축 14-5
A106: 59827590E455CA66C37083772DB545 | B106: 유성페인트(붓칠) | C106: 철재면, 2회. 1급 | D106: M2 | I106: 호표 103 | J106: 건축 17-3-1 | M106: 건축 17-3-1
A107: 59827590E455CA66C3708338201EA1 | B107: 유성페인트(붓칠) - 재료비 | C107: 철재면, 2회 칠, 1급 | D107: M2 | I107: 호표 104 | J107: 건축 17-3-1 | M107: 건축 17-3-1
...

Sheet Sheet1
