Workbook

Sheet 원가계산서
B1: 공 사 원 가 계 산 서
B2: 공사명 : 서산노인전문병원치매요양병원리모델링공사 | F2: 금액 :
B3: 비 목 | E3: 금 액 | F3: 구 성 비 | G3: 비 고
A4: A1 | B4: 순 공 사 원 가 | C4: 재 료 비 | D4: 직 접 재 료 비 | E4: =TRUNC(공종별집계표!F5, 0) -> 0
A5: A2 | D5: 간 접 재 료 비 | E5: 0
A6: A3 | D6: 작 업 부 산 물 | E6: =TRUNC(공종별집계표!T22+공종별집계표!T25, 0) -> 0
A7: AS | D7: [ 소 계 ] | E7: =TRUNC(E4+E5-E6, 0) -> 0
A8: B1 | C8: 노 무 비 | D8: 직 접 노 무 비 | E8: =TRUNC(공종별집계표!H5, 0) -> 0
A9: B2 | D9: 간 접 노 무 비 | E9: =TRUNC(E8*0.079, 0) -> 0 | F9: 직접노무비 * 7.9%
A10: BS | D10: [ 소 계 ] | E10: =TRUNC(E8+E9, 0) -> 0
A11: C2 | C11: 경 비 | D11: 기 계 경 비 | E11: =TRUNC(공종별집계표!J5, 0) -> 0
A12: C4 | D12: 산 재 보 험 료 | E12: =TRUNC(E10*0.0405, 0) -> 0 | F12: 노무비 * 4.05%
A13: C5 | D13: 고 용 보 험 료 | E13: =TRUNC(E10*0.0087, 0) -> 0 | F13: 노무비 * 0.87%
A14: C6 | D14: 국민 건강 보험료 | E14: =TRUNC(E8*0.0312, 0) -> 0 | F14: 직접노무비 * 3.12%
A15: C7 | D15: 국민 연금 보험료 | E15: =TRUNC(E8*0.045, 0) -> 0 | F15: 직접노무비 * 4.5%
A16: CB | D16: 노인장기요양보험료 | E16: =TRUNC(E14*0.0738, 0) -> 0 | F16: 건강보험료 * 7.38%
A17: C8 | D17: 퇴직 공제 부금비 | E17: =TRUNC(E8*0.023, 0) -> 0 | F17: 직접노무비 * 2.3%
A18: CA | D18: 산업안전보건관리비 | E18: =TRUNC((E7+E8+(0/1.1))*0.0293, 0) -> 0 | F18: (재료비+직노) * 2.93%
A19: CH | D19: 환 경 보 전 비 | E19: =TRUNC((E7+E8+E11)*0.003, 0) -> 0 | F19: (재료비+직노+기계경비) * 0.3%
A20: CG | D20: 기 타 경 비 | E20: =TRUNC((E7+E10)*0.055, 0) -> 0 | F20: (재료비+노무비) * 5.5%
A21: CK | D21: 하도급지급보증수수료 | E21: =TRUNC((E7+E8+E11)*0.00081, 0) -> 0 | F21: (재료비+직노+기계경비) * 0.081%
A22: CL | D22: 건설기계대여금지급보증서발급수수료 | E22: =TRUNC((E7+E8+E11)*0.0007, 0) -> 0 | F22: (재료비+직노+기계경비) * 0.07%
A23: CS | D23: [ 소 계 ] | E23: =TRUNC(E11+E12+E13+E14+E15+E17+E18+E16+E20+E19+E21+E22, 0) -> 0
A24: S1 | B24: 계 | E24: =TRUNC(E7+E10+E23, 0) -> 0
A25: D1 | B25: 일 반 관 리 비 | E25: =TRUNC(E24*0.06, 0) -> 0 | F25: 계 * 6%
A26: D2 | B26: 이 윤 | E26: =TRUNC((E10+E23+E25)*0.15, 0) -> 0 | F26: (노무비+경비+일반관리비) * 15%
A27: D9 | B27: 공 급 가 액 | E27: =TRUNC(E24+E25+E26, 0) -> 0
A28: DB | B28: 부 가 가 치 세 | E28: =TRUNC(E27*0.1, 0) -> 0 | F28: 공급가액 * 10%
A29: DH | B29: 도 급 액 | E29: =TRUNC(INT((E27+E28)/1000)*1000, 0) -> 0
A30: DK | B30: 관급자관급자재 | E30: =TRUNC(공종별집계표!T26, 0) -> 0
A31: S2 | B31: 총 공 사 비 | E31: =TRUNC(E29+0+E30, 0) -> 0

Sheet 공종별집계표
A1: 공 종 별 집 계 표
A2: [ 서산노인전문병원치매요양병원리모델링공사 ]
A3: 품 명 | B3: 규 격 | C3: 단위 | D3: 수량 | E3: 재 료 비 | G3: 노 무 비 | I3: 경 비 | K3: 합 계 | M3: 비 고 | N3: 공종코드 | O3: 변수 | P3: 상위공종 | Q3: 공종구분 | R3: 공종레벨 | S3: 공종소계 | T3: 원가계산서 연결금액
E4: 단 가 | F4: 금 액 | G4: 단 가 | H4: 금 액 | I4: 단 가 | J4: 금 액 | K4: 단 가 | L4: 금 액
A5: 01 서산노인전문병원치매요양병원리모델링공사 | D5: 1 | E5: =F6+F23 -> 0 | F5: =E5*D5 -> 0 | G5: =H6+H23 -> 0 | H5: =G5*D5 -> 0 | I5: =J6+J23 -> 0 | J5: =I5*D5 -> 0 | K5: =E5+G5+I5 -> 0 | L5: =F5+H5+J5 -> 0 | N5: 01 | R5: 1
A6: 0101 ◈ 건축공사 ◈ | D6: 1 | E6: =F7+F8+F9+F10+F11+F12+F13+F14+F15+F16+F17+F18+F19+F20+F21 -> 0 | F6: =E6*D6 -> 0 | G6: =H7+H8+H9+H10+H11+H12+H13+H14+H15+H16+H17+H18+H19+H20+H21 -> 0 | H6: =G6*D6 -> 0 | I6: =J7+J8+J9+J10+J11+J12+J13+J14+J15+J16+J17+J18+J19+J20+J21 -> 0 | J6: =I6*D6 -> 0 | K6: =E6+G6+I6 -> 0 | L6: =F6+H6+J6 -> 0 | N6: 0101 | P6: 01 | R6: 2
A7: 010101 가 설 공 사 | D7: 1 | E7: =공종별내역서!F27 -> 0 | F7: =E7*D7 -> 0 | G7: =공종별내역서!H27 -> 0 | H7: =G7*D7 -> 0 | I7: =공종별내역서!J27 -> 0 | J7: =I7*D7 -> 0 | K7: =E7+G7+I7 -> 0 | L7: =F7+H7+J7 -> 0 | N7: 010101 | P7: 0101 | R7: 3
A8: 010102 조 적 공 사 | D8: 1 | E8: =공종별내역서!F51 -> 0 | F8: =E8*D8 -> 0 | G8: =공종별내역서!H51 -> 0 | H8: =G8*D8 -> 0 | I8: =공종별내역서!J51 -> 0 | J8: =I8*D8 -> 0 | K8: =E8+G8+I8 -> 0 | L8: =F8+H8+J8 -> 0 | N8: 010102 | P8: 0101 | R8: 3
A9: 010103 타 일 공 사 | D9: 1 | E9: =공종별내역서!F75 -> 0 | F9: =E9*D9 -> 0 | G9: =공종별내역서!H75 -> 0 | H9: =G9*D9 -> 0 | I9: =공종별내역서!J75 -> 0 | J9: =I9*D9 -> 0 | K9: =E9+G9+I9 -> 0 | L9: =F9+H9+J9 -> 0 | N9: 010103 | P9: 0101 | R9: 3
A10: 010104 돌 공 사 | D10: 1 | E10: =공종별내역서!F99 -> 0 | F10: =E10*D10 -> 0 | G10: =공종별내역서!H99 -> 0 | H10: =G10*D10 -> 0 | I10: =공종별내역서!J99 -> 0 | J10: =I10*D10 -> 0 | K10: =E10+G10+I10 -> 0 | L10: =F10+H10+J10 -> 0 | N10: 010104 | P10: 0101 | R10: 3
A11: 010105 목 공 사 | D11: 1 | E11: =공종별내역서!F123 -> 0 | F11: =E11*D11 -> 0 | G11: =공종별내역서!H123 -> 0 | H11: =G11*D11 -> 0 | I11: =공종별내역서!J123 -> 0 | J11: =I11*D11 -> 0 | K11: =E11+G11+I11 -> 0 | L11: =F11+H11+J11 -> 0 | N11: 010105 | P11: 0101 | R11: 3
A12: 010106 방 수 공 사 | D12: 1 | E12: =공종별내역서!F147 -> 0 | F12: =E12*D12 -> 0 | G12: =공종별내역서!H147 -> 0 | H12: =G12*D12 -> 0 | I12: =공종별내역서!J147 -> 0 | J12: =I12*D12 -> 0 | K12: =E12+G12+I12 -> 0 | L12: =F12+H12+J12 -> 0 | N12: 010106 | P12: 0101 | R12: 3
A13: 010107 금 속 공 사 | D13: 1 | E13: =공종별내역서!F171 -> 0 | F13: =E13*D13 -> 0 | G13: =공종별내역서!H171 -> 0 | H13: =G13*D13 -> 0 | I13: =공종별내역서!J171 -> 0 | J13: =I13*D13 -> 0 | K13: =E13+G13+I13 -> 0 | L13: =F13+H13+J13 -> 0 | N13: 010107 | P13: 0101 | R13: 3
A14: 010108 미 장 공 사 | D14: 1 | E14: =공종별내역서!F195 -> 0 | F14: =E14*D14 -> 0 | G14: =공종별내역서!H195 -> 0 | H14: =G14*D14 -> 0 | I14: =공종별내역서!J195 -> 0 | J14: =I14*D14 -> 0 | K14: =E14+G14+I14 -> 0 | L14: =F14+H14+J14 -> 0 | N14: 010108 | P14: 0101 | R14: 3
A15: 010109 창 호 공 사 | D15: 1 | E15: =공종별내역서!F219 -> 0 | F15: =E15*D15 -> 0 | G15: =공종별내역서!H219 -> 0 | H15: =G15*D15 -> 0 | I15: =공종별내역서!J219 -> 0 | J15: =I15*D15 -> 0 | K15: =E15+G15+I15 -> 0 | L15: =F15+H15+J15 -> 0 | N15: 010109 | P15: 0101 | R15: 3
A16: 010110 유 리 공 사 | D16: 1 | E16: =공종별내역서!F243 -> 0 | F16: =E16*D16 -> 0 | G16: =공종별내역서!H243 -> 0 | H16: =G16*D16 -> 0 | I16: =공종별내역서!J243 -> 0 | J16: =I16*D16 -> 0 | K16: =E16+G16+I16 -> 0 | L16: =F16+H16+J16 -> 0 | N16: 010110 | P16: 0101 | R16: 3
A17: 010111 칠 공 사 | D17: 1 | E17: =공종별내역서!F267 -> 0 | F17: =E17*D17 -> 0 | G17: =공종별내역서!H267 -> 0 | H17: =G17*D17 -> 0 | I17: =공종별내역서!J267 -> 0 | J17: =I17*D17 -> 0 | K17: =E17+G17+I17 -> 0 | L17: =F17+H17+J17 -> 0 | N17: 010111 | P17: 0101 | R17: 3
A18: 010112 수 장 공 사 | D18: 1 | E18: =공종별내역서!F291 -> 0 | F18: =E18*D18 -> 0 | G18: =공종별내역서!H291 -> 0 | H18: =G18*D18 -> 0 | I18: =공종별내역서!J291 -> 0 | J18: =I18*D18 -> 0 | K18: =E18+G18+I18 -> 0 | L18: =F18+H18+J18 -> 0 | N18: 010112 | P18: 0101 | R18: 3
A19: 010113 실내 조경 설치 | D19: 1 | E19: =공종별내역서!F315 -> 0 | F19: =E19*D19 -> 0 | G19: =공종별내역서!H315 -> 0 | H19: =G19*D19 -> 0 | I19: =공종별내역서!J315 -> 0 | J19: =I19*D19 -> 0 | K19: =E19+G19+I19 -> 0 | L19: =F19+H19+J19 -> 0 | N19: 010113 | P19: 0101 | R19: 3
A20: 010114 철 거 공 사 | D20: 1 | E20: =공종별내역서!F339 -> 0 | F20: =E20*D20 -> 0 | G20: =공종별내역서!H339 -> 0 | H20: =G20*D20 -> 0 | I20: =공종별내역서!J339 -> 0 | J20: =I20*D20 -> 0 | K20: =E20+G20+I20 -> 0 | L20: =F20+H20+J20 -> 0 | N20: 010114 | P20: 0101 | R20: 3
A21: 010115 골 재 대 | D21: 1 | E21: =공종별내역서!F363 -> 0 | F21: =E21*D21 -> 0 | G21: =공종별내역서!H363 -> 0 | H21: =G21*D21 -> 0 | I21: =공종별내역서!J363 -> 0 | J21: =I21*D21 -> 0 | K21: =E21+G21+I21 -> 0 | L21: =F21+H21+J21 -> 0 | N21: 010115 | P21: 0101 | R21: 3
A22: 010116 작 업 부 산 물 | D22: 1 | E22: =공종별내역서!F387 -> 0 | F22: =E22*D22 -> 0 | G22: =공종별내역서!H387 -> 0 | H22: =G22*D22 -> 0 | I22: =공종별내역서!J387 -> 0 | J22: =I22*D22 -> 0 | K22: =E22+G22+I22 -> 0 | L22: =F22+H22+J22 -> 0 | N22: 010116 | Q22: 1 | R22: 3 | T22: =L22*1 -> 0
A23: 0102 ◈ 기계설비공사 ◈ | D23: 1 | E23: =F24 -> 0 | F23: =E23*D23 -> 0 | G23: =H24 -> 0 | H23: =G23*D23 -> 0 | I23: =J24 -> 0 | J23: =I23*D23 -> 0 | K23: =E23+G23+I23 -> 0 | L23: =F23+H23+J23 -> 0 | N23: 0102 | P23: 01 | R23: 2
A24: 010201 기계설비공사 | D24: 1 | E24: =공종별내역서!F411 -> 0 | F24: =E24*D24 -> 0 | G24: =공종별내역서!H411 -> 0 | H24: =G24*D24 -> 0 | I24: =공종별내역서!J411 -> 0 | J24: =I24*D24 -> 0 | K24: =E24+G24+I24 -> 0 | L24: =F24+H24+J24 -> 0 | N24: 010201 | P24: 0102 | R24: 3
A25: 010202 작업부산물 | D25: 1 | E25: =공종별내역서!F435 -> 0 | F25: =E25*D25 -> 0 | G25: =공종별내역서!H435 -> 0 | H25: =G25*D25 -> 0 | I25: =공종별내역서!J435 -> 0 | J25: =I25*D25 -> 0 | K25: =E25+G25+I25 -> 0 | L25: =F25+H25+J25 -> 0 | N25: 010202 | Q25: 1 | R25: 3 | T25: =L25*1 -> 0
A26: 010203 관급자관급자재 | D26: 1 | E26: =공종별내역서!F459 -> 0 | F26: =E26*D26 -> 0 | G26: =공종별내역서!H459 -> 0 | H26: =G26*D26 -> 0 | I26: =공종별내역서!J459 -> 0 | J26: =I26*D26 -> 0 | K26: =E26+G26+I26 -> 0 | L26: =F26+H26+J26 -> 0 | N26: 010203 | Q26: 6 | R26: 3 | T26: =L26*1 -> 0
A27: [ 합 계 ] | F27: =F5 -> 0 | H27: =H5 -> 0 | J27: =J5 -> 0 | L27: =L5 -> 0

Sheet 공종별내역서
A1: [ 서산노인전문병원치매요양병원리모델링공사 ]
A2: 품 명 | B2: 규 격 | C2: 단위 | D2: 수량 | E2: 재료비 | G2: 노 무 비 | I2: 경 비 | K2: 합 계 | M2: 비 고 | N2: 품목코드 | O2: 변수 | P2: 설정 | Q2: 공종코드 | R2: 일위 | S2: 단산 | T2: 자재 | U2: 손료적용 | V2: 손료저장 | W2: 적용율 | X2: JUK1 | Y2: JUK2 | Z2: JUK3 | AA2: JUK4 | AB2: JUK5 | AC2: JUK6 | AD2: JUK7 | AE2: JUK8 | AF2: JUK9 | AG2: JUK10 | AH2: JUK11 | AI2: JUK12 | AJ2: JUK13 | AK2: JUK14 | AL2: JUK15 | AM2: JUK16 | AN2: JUK17 | AO2: JUK18 | AP2: JUK19 | AQ2: JUK20 | AR2: 자재구분 | AS2: 공종구분 | AT2: 공종레벨 | AU2: 공종+자재 | AV2: 고유번호
E3: 단 가 | F3: 금 액 | H3: 금 액 | J3: 금 액 | K3: 단 가 | L3: 금 액
A4: 010101 가 설 공 사 | Q4: 010101
A5: 강관 조립말비계(이동식) | B5: 높이 2m, 3개월 | C5: 대 | D5: 5 | F5: =TRUNC(E5*D5, 0) -> 0 | H5: =TRUNC(G5*D5, 0) -> 0 | J5: =TRUNC(I5*D5, 0) -> 0 | K5: =TRUNC(E5+G5+I5, 0) -> 0 | L5: =TRUNC(F5+H5+J5, 0) -> 0 | N5: 598285F8665D55764BE8D3CB2C879E | Q5: 010101 | R5: T | S5: F | T5: F | AU5: 010101598285F8665D55764BE8D3CB2C879E | AV5: 4
A6: 건축물현장정리 | B6: 보수및리모델링 | C6: M2 | D6: 644 | F6: =TRUNC(E6*D6, 0) -> 0 | H6: =TRUNC(G6*D6, 0) -> 0 | J6: =TRUNC(I6*D6, 0) -> 0 | K6: =TRUNC(E6+G6+I6, 0) -> 0 | L6: =TRUNC(F6+H6+J6, 0) -> 0 | N6: 598285FDE75C1486F266D360291BDC | Q6: 010101 | R6: T | S6: F | T6: F | AU6: 010101598285FDE75C1486F266D360291BDC | AV6: 5
A27: [ 합 계 ] | F27: =SUM(F5:F26) -> 0 | H27: =SUM(H5:H26) -> 0 | J27: =SUM(J5:J26) -> 0 | L27: =SUM(L5:L26) -> 0 | N27: TOTAL
A28: 010102 조 적 공 사 | Q28: 010102
A29: 콘크리트벽돌 | B29: 콘크리트벽돌, 190*57*90mm, 충남, C종2급 | C29: 매 | D29: 5933 | F29: =TRUNC(E29*D29, 0) -> 0 | H29: =TRUNC(G29*D29, 0) -> 0 | J29: =TRUNC(I29*D29, 0) -> 0 | K29: =TRUNC(E29+G29+I29, 0) -> 0 | L29: =TRUNC(F29+H29+J29, 0) -> 0 | N29: 5EA6257F8156D2B68384D31922FB7D83E21868 | Q29: 010102 | R29: F | S29: F | T29: T | AU29: 0101025EA6257F8156D2B68384D31922FB7D83E21868 | AV29: 7
A30: 0.5B 벽돌쌓기 | B30: 3.6m 이하 | C30: 천매 | D30: 3.031 | F30: =TRUNC(E30*D30, 0) -> 0 | H30: =TRUNC(G30*D30, 0) -> 0 | J30: =TRUNC(I30*D30, 0) -> 0 | K30: =TRUNC(E30+G30+I30, 0) -> 0 | L30: =TRUNC(F30+H30+J30, 0) -> 0 | N30: 5982F549DB5B05F63937D35024A5E4 | Q30: 010102 | R30: T | S30: F | T30: F | AU30: 0101025982F549DB5B05F63937D35024A5E4 | AV30: 8
A31: 1.0B 벽돌쌓기 | B31: 3.6m 이하 | C31: 천매 | D31: 2.229 | F31: =TRUNC(E31*D31, 0) -> 0 | H31: =TRUNC(G31*D31, 0) -> 0 | J31: =TRUNC(I31*D31, 0) -> 0 | K31: =TRUNC(E31+G31+I31, 0) -> 0 | L31: =TRUNC(F31+H31+J31, 0) -> 0 | N31: 5982F549DB5B05D60CC01389276DA8 | Q31: 010102 | R31: T | S31: F | T31: F | AU31: 0101025982F549DB5B05D60CC01389276DA8 | AV31: 9
A32: 1.5B 벽돌쌓기 | B32: 3.6m 이하 | C32: 천매 | D32: 0.389 | F32: =TRUNC(E32*D32, 0) -> 0 | H32: =TRUNC(G32*D32, 0) -> 0 | J32: =TRUNC(I32*D32, 0) -> 0 | K32: =TRUNC(E32+G32+I32, 0) -> 0 | L32: =TRUNC(F32+H32+J32, 0) -> 0 | N32: 5982F549DB5B05B65F0CC3132FA02E | Q32: 010102 | R32: T | S32: F | T32: F | AU32: 0101025982F549DB5B05B65F0CC3132FA02E | AV32: 149
A33: 벽돌 운반 | B33: 인력, 5층 | C33: 천매 | D33: 5.65 | F33: =TRUNC(E33*D33, 0) -> 0 | H33: =TRUNC(G33*D33, 0) -> 0 | J33: =TRUNC(I33*D33, 0) -> 0 | K33: =TRUNC(E33+G33+I33, 0) -> 0 | L33: =TRUNC(F33+H33+J33, 0) -> 0 | N33: 5982F549D9582436E0C983752D40C9 | Q33: 010102 | R33: T | S33: F | T33: F | AU33: 0101025982F549D9582436E0C983752D40C9 | AV33: 10
A34: 실외기패드설치 | B34: 2900*1200*200 | C34: EA | D34: 1 | F34: =TRUNC(E34*D34, 0) -> 0 | H34: =TRUNC(G34*D34, 0) -> 0 | J34: =TRUNC(I34*D34, 0) -> 0 | K34: =TRUNC(E34+G34+I34, 0) -> 0 | L34: =TRUNC(F34+H34+J34, 0) -> 0 | N34: 5982F55A0850CA46054BF39828BC55 | Q34: 010102 | R34: T | S34: F | T34: F | AU34: 0101025982F55A0850CA46054BF39828BC55 | AV34: 112
A51: [ 합 계 ] | F51: =SUM(F29:F50) -> 0 | H51: =SUM(H29:H50) -> 0 | J51: =SUM(J29:J50) -> 0 | L51: =SUM(L29:L50) -> 0 | N51: TOTAL
A52: 010103 타 일 공 사 | Q52: 010103
A53: 도기질타일압착붙임(바탕 18mm+압 6mm) | B53: 벽, 200*250(일반C, 백색줄눈) | C53: M2 | D53: 287 | F53: =TRUNC(E53*D53, 0) -> 0 | H53: =TRUNC(G53*D53, 0) -> 0 | J53: =TRUNC(I53*D53, 0) -> 0 | K53: =TRUNC(E53+G53+I53, 0) -> 0 | L53: =TRUNC(F53+H53+J53, 0) -> 0 | N53: 5982455F53545BD64054E33C2BCBC3 | Q53: 010103 | R53: T | S53: F | T53: F | AU53: 0101035982455F53545BD64054E33C2BCBC3 | AV53: 153
A54: 자기질타일압착붙임(바탕 51mm+압 5mm) | B54: 바닥, 200*200 | C54: M2 | D54: 73 | F54: =TRUNC(E54*D54, 0) -> 0 | H54: =TRUNC(G54*D54, 0) -> 0 | J54: =TRUNC(I54*D54, 0) -> 0 | K54: =TRUNC(E54+G54+I54, 0) -> 0 | L54: =TRUNC(F54+H54+J54, 0) -> 0 | N54: 5982455F51597C166028D3072798CE | Q54: 010103 | R54: T | S54: F | T54: F | AU54: 0101035982455F51597C166028D3072798CE | AV54: 154
A75: [ 합 계 ] | F75: =SUM(F53:F74) -> 0 | H75: =SUM(H53:H74) -> 0 | J75: =SUM(J53:J74) -> 0 | L75: =SUM(L53:L74) -> 0 | N75: TOTAL
A76: 010104 돌 공 사 | Q76: 010104
A77: 화강석붙임(습식, 물갈기) | B77: 창대, 포천석 150*30mm, 모르타르 30mm | C77: M | D77: 3 | F77: =TRUNC(E77*D77, 0) -> 0 | H77: =TRUNC(G77*D77, 0) -> 0 | J77: =TRUNC(I77*D77, 0) -> 0 | K77: =TRUNC(E77+G77+I77, 0) -> 0 | L77: =TRUNC(F77+H77+J77, 0) -> 0 | N77: 5982455C99577F263ED8737626DB03 | Q77: 010104 | R77: T | S77: F | T77: F | AU77: 0101045982455C99577F263ED8737626DB03 | AV77: 151
A78: 화강석붙임(습식, 물갈기) | B78: 창대, 포천석 300*30mm, 모르타르 30mm | C78: M | D78: 6 | F78: =TRUNC(E78*D78, 0) -> 0 | H78: =TRUNC(G78*D78, 0) -> 0 | J78: =TRUNC(I78*D78, 0) -> 0 | K78: =TRUNC(E78+G78+I78, 0) -> 0 | L78: =TRUNC(F78+H78+J78, 0) -> 0 | N78: 5982455C99577F263ED8735B25ABDD | Q78: 010104 | R78: T | S78: F | T78: F | AU78: 0101045982455C99577F263ED8735B25ABDD | AV78: 152
A99: [ 합 계 ] | F99: =SUM(F77:F98) -> 0 | H99: =SUM(H77:H98) -> 0 | J99: =SUM(J77:J98) -> 0 | L99: =SUM(L77:L98) -> 0 | N99: TOTAL
A100: 010105 목 공 사 | Q100: 010105
A101: 조경박스설치 | B101: 7500*720*H250 | C101: EA | D101: 1 | F101: =TRUNC(E101*D101, 0) -> 0 | H101: =TRUNC(G101*D101, 0) -> 0 | J101: =TRUNC(I101*D101, 0) -> 0 | K101: =TRUNC(E101+G101+I101, 0) -> 0 | L101: =TRUNC(F101+H101+J101, 0) -> 0 | N101: 598265AD03597B267AC5535125726F | Q101: 010105 | R101: T | S101: F | T101: F | AU101: 010105598265AD03597B267AC5535125726F | AV101: 106
A102: 목질걸레받이 붙임 | B102: T=9,H=100, 인테리어필름 | C102: M | D102: 245 | F102: =TRUNC(E102*D102, 0) -> 0 | H102: =TRUNC(G102*D102, 0) -> 0 | J102: =TRUNC(I102*D102, 0) -> 0 | K102: =TRUNC(E102+G102+I102, 0) -> 0 | L102: =TRUNC(F102+H102+J102, 0) -> 0 | N102: 598265AD03597B267AC55351257269 | Q102: 010105 | R102: T | S102: F | T102: F | AU102: 010105598265AD03597B267AC55351257269 | AV102: 98
A103: 벽, MDF붙임 | B103: 9.0mm | C103: M2 | D103: 102 | F103: =TRUNC(E103*D103, 0) -> 0 | H103: =TRUNC(G103*D103, 0) -> 0 | J103: =TRUNC(I103*D103, 0) -> 0 | K103: =TRUNC(E103+G103+I103, 0) -> 0 | L103: =TRUNC(F103+H103+J103, 0) -> 0 | N103: 598265AF325B72F6E83983CC25D131 | Q103: 010105 | R103: T | S103: F | T103: F | AU103: 010105598265AF325B72F6E83983CC25D131 | AV103: 17
A104: 허리몰딩설치(MDF평몰딩) | B104: 9*20,인테리어필름 | C104: M | D104: 75 | F104: =TRUNC(E104*D104, 0) -> 0 | H104: =TRUNC(G104*D104, 0) -> 0 | J104: =TRUNC(I104*D104, 0) -> 0 | K104: =TRUNC(E104+G104+I104, 0) -> 0 | L104: =TRUNC(F104+H104+J104, 0) -> 0 | N104: 598265AD03597B267AC5535125726E | Q104: 010105 | R104: T | S104: F | T104: F | AU104: 010105598265AD03597B267AC5535125726E | AV104: 97
A123: [ 합 계 ] | F123: =SUM(F101:F122) -> 0 | H123: =SUM(H101:H122) -> 0 | J123: =SUM(J101:J122) -> 0 | L123: =SUM(L101:L122) -> 0 | N123: TOTAL
A124: 010106 방 수 공 사 | Q124: 010106
A125: 수밀코킹(실리콘) | B125: 삼각, 10mm, 창호주위 | C125: M | D125: 182 | F125: =TRUNC(E125*D125, 0) -> 0 | H125: =TRUNC(G125*D125, 0) -> 0 | J125: =TRUNC(I125*D125, 0) -> 0 | K125: =TRUNC(E125+G125+I125, 0) -> 0 | L125: =TRUNC(F125+H125+J125, 0) -> 0 | N125: 5982152C105711B6E9F0C31E2CA67D | Q125: 010106 | R125: T | S125: F | T125: F | AU125: 0101065982152C105711B6E9F0C31E2CA67D | AV125: 45
A126: 시멘트 액체방수 | B126: 바닥 | C126: M2 | D126: 73 | F126: =TRUNC(E126*D126, 0) -> 0 | H126: =TRUNC(G126*D126, 0) -> 0 | J126: =TRUNC(I126*D126, 0) -> 0 | K126: =TRUNC(E126+G126+I126, 0) -> 0 | L126: =TRUNC(F126+H126+J126, 0) -> 0 | N126: 598215233659DBA67D0ED3BA26DD08 | Q126: 010106 | R126: T | S126: F | T126: F | AU126: 010106598215233659DBA67D0ED3BA26DD08 | AV126: 20
A127: 시멘트 액체방수 | B127: 벽 | C127: M2 | D127: 153 | F127: =TRUNC(E127*D127, 0) -> 0 | H127: =TRUNC(G127*D127, 0) -> 0 | J127: =TRUNC(I127*D127, 0) -> 0 | K127: =TRUNC(E127+G127+I127, 0) -> 0 | L127: =TRUNC(F127+H127+J127, 0) -> 0 | N127: 59821523375A4AB62D92133C20B086 | Q127: 010106 | R127: T | S127: F | T127: F | AU127: 01010659821523375A4AB62D92133C20B086 | AV127: 21
A147: [ 합 계 ] | F147: =SUM(F125:F146) -> 0 | H147: =SUM(H125:H146) -> 0 | J147: =SUM(J125:J146) -> 0 | L147: =SUM(L125:L146) -> 0 | N147: TOTAL
A148: 010107 금 속 공 사 | Q148: 010107
A149: 타일벽코너가드 | B149: 스텐1.2t*10*10 | C149: M | D149: 29 | F149: =TRUNC(E149*D149, 0) -> 0 | H149: =TRUNC(G149*D149, 0) -> 0 | J149: =TRUNC(I149*D149, 0) -> 0 | K149: =TRUNC(E149+G149+I149, 0) -> 0 | L149: =TRUNC(F149+H149+J149, 0) -> 0 | N149: 5982E56BFC520B56CE926370203C4E | Q149: 010107 | R149: T | S149: F | T149: F | AU149: 0101075982E56BFC520B56CE926370203C4E | AV149: 156
A150: PVC핸드레일 | B150: 벽부형, Φ38MM | C150: M | D150: 82 | F150: =TRUNC(E150*D150, 0) -> 0 | H150: =TRUNC(G150*D150, 0) -> 0 | J150: =TRUNC(I150*D150, 0) -> 0 | K150: =TRUNC(E150+G150+I150, 0) -> 0 | L150: =TRUNC(F150+H150+J150, 0) -> 0 | N150: 5EA6257F855C66A6142FC3EA26ECE7256A29EF | Q150: 010107 | R150: F | S150: F | T150: T | AU150: 0101075EA6257F855C66A6142FC3EA26ECE7256A29EF | AV150: 99
A151: 트렌치(하부스텐1.5T) | B151: 스텐,W150*H100*3t,SST | C151: M | D151: 5 | F151: =TRUNC(E151*D151, 0) -> 0 | H151: =TRUNC(G151*D151, 0) -> 0 | J151: =TRUNC(I151*D151, 0) -> 0 | K151: =TRUNC(E151+G151+I151, 0) -> 0 | L151: =TRUNC(F151+H151+J151, 0) -> 0 | N151: 59823570C75DB5864ECF63D129CEDE | Q151: 010107 | R151: T | S151: F | T151: F | AU151: 01010759823570C75DB5864ECF63D129CEDE | AV151: 157
A152: 경량 천장 철골틀 | B152: M-BAR | C152: M2 | D152: 599 | F152: =TRUNC(E152*D152, 0) -> 0 | H152: =TRUNC(G152*D152, 0) -> 0 | J152: =TRUNC(I152*D152, 0) -> 0 | K152: =TRUNC(E152+G152+I152, 0) -> 0 | L152: =TRUNC(F152+H152+J152, 0) -> 0 | N152: 5982357EA0554636C85823E028AE56 | Q152: 010107 | R152: T | S152: F | T152: F | AU152: 0101075982357EA0554636C85823E028AE56 | AV152: 24
A153: 스테인리스공프레임 | B153: W160*1.2t(코킹 5*5) | C153: M | D153: 6 | F153: =TRUNC(E153*D153, 0) -> 0 | H153: =TRUNC(G153*D153, 0) -> 0 | J153: =TRUNC(I153*D153, 0) -> 0 | K153: =TRUNC(E153+G153+I153, 0) -> 0 | L153: =TRUNC(F153+H153+J153, 0) -> 0 | N153: 5982357CF05CB666D1A2F34928E353 | Q153: 010107 | R153: T | S153: F | T153: F | AU153: 0101075982357CF05CB666D1A2F34928E353 | AV153: 155
...

Sheet 일위대가목록
A1: 일 위 대 가 목 록
A2: [ 서산노인전문병원치매요양병원리모델링공사 ]
A3: 코 드 | B3: 품 명 | C3: 규 격 | D3: 단위 | E3: 재 료 비 | F3: 노 무 비 | G3: 경 비 | H3: 합 계 | I3: 번 호 | J3: 비 고 | K3: 노임계수 | L3: 할증 | M3: 품셈개요 | N3: 장비일위
A4: 598285F8665D55764BE8D3CB2C879E | B4: 강관 조립말비계(이동식) | C4: 높이 2m, 3개월 | D4: 대 | I4: 호표 1 | J4: 건축 2-6-4, 6 | M4: 건축 2-6-4, 6
A5: 598285FDE75C1486F266D360291BDC | B5: 건축물현장정리 | C5: 보수및리모델링 | D5: M2 | I5: 호표 2
A6: 5982F549DB5B05F63937D35024A5E4 | B6: 0.5B 벽돌쌓기 | C6: 3.6m 이하 | D6: 천매 | I6: 호표 3 | J6: 건축 8-1-2 | M6: 건축 8-1-2
A7: 5982F549DB5B05D60CC01389276DA8 | B7: 1.0B 벽돌쌓기 | C7: 3.6m 이하 | D7: 천매 | I7: 호표 4 | J7: 건축 8-1-2 | M7: 건축 8-1-2
A8: 5982F549DB5B05B65F0CC3132FA02E | B8: 1.5B 벽돌쌓기 | C8: 3.6m 이하 | D8: 천매 | I8: 호표 5 | J8: 건축 8-1-2 | M8: 건축 8-1-2
A9: 5982F549D9582436E0C983752D40C9 | B9: 벽돌 운반 | C9: 인력, 5층 | D9: 천매 | I9: 호표 6 | J9: 건축 8-2 | M9: 건축 8-2
A10: 5982F55A0850CA46054BF39828BC55 | B10: 실외기패드설치 | C10: 2900*1200*200 | D10: EA | I10: 호표 7 | J10: 토목 6-1,2,3 | M10: 토목 6-1,2,3
A11: 5982455F53545BD64054E33C2BCBC3 | B11: 도기질타일압착붙임(바탕 18mm+압 6mm) | C11: 벽, 200*250(일반C, 백색줄눈) | D11: M2 | I11: 호표 8
A12: 5982455F51597C166028D3072798CE | B12: 자기질타일압착붙임(바탕 51mm+압 5mm) | C12: 바닥, 200*200 | D12: M2 | I12: 호표 9
A13: 5982455C99577F263ED8737626DB03 | B13: 화강석붙임(습식, 물갈기) | C13: 창대, 포천석 150*30mm, 모르타르 30mm | D13: M | I13: 호표 10 | J13: 건축 9-1-1 | M13: 건축 9-1-1
A14: 5982455C99577F263ED8735B25ABDD | B14: 화강석붙임(습식, 물갈기) | C14: 창대, 포천석 300*30mm, 모르타르 30mm | D14: M | I14: 호표 11 | J14: 건축 9-1-1 | M14: 건축 9-1-1
A15: 598265AD03597B267AC5535125726F | B15: 조경박스설치 | C15: 7500*720*H250 | D15: EA | I15: 호표 12
A16: 598265AD03597B267AC55351257269 | B16: 목질걸레받이 붙임 | C16: T=9,H=100, 인테리어필름 | D16: M | I16: 호표 13
A17: 598265AF325B72F6E83983CC25D131 | B17: 벽, MDF붙임 | C17: 9.0mm | D17: M2 | I17: 호표 14 | J17: 건축 11-1-3.3 | M17: 건축 11-1-3.3
A18: 598265AD03597B267AC5535125726E | B18: 허리몰딩설치(MDF평몰딩) | C18: 9*20,인테리어필름 | D18: M | I18: 호표 15
A19: 5982152C105711B6E9F0C31E2CA67D | B19: 수밀코킹(실리콘) | C19: 삼각, 10mm, 창호주위 | D19: M | I19: 호표 16 | J19: 건축 12-3-1 | M19: 건축 12-3-1
A20: 598215233659DBA67D0ED3BA26DD08 | B20: 시멘트 액체방수 | C20: 바닥 | D20: M2 | I20: 호표 17 | J20: 건축 12-2-3.1 | M20: 건축 12-2-3.1
A21: 59821523375A4AB62D92133C20B086 | B21: 시멘트 액체방수 | C21: 벽 | D21: M2 | I21: 호표 18 | J21: 건축 12-2-3.1 | M21: 건축 12-2-3.1
A22: 5982E56BFC520B56CE926370203C4E | B22: 타일벽코너가드 | C22: 스텐1.2t*10*10 | D22: M | I22: 호표 19
A23: 59823570C75DB5864ECF63D129CEDE | B23: 트렌치(하부스텐1.5T) | C23: 스텐,W150*H100*3t,SST | D23: M | I23: 호표 20
A24: 5982357EA0554636C85823E028AE56 | B24: 경량 천장 철골틀 | C24: M-BAR | D24: M2 | I24: 호표 21 | J24: 건축 14-4 | M24: 건축 14-4
A25: 5982357CF05CB666D1A2F34928E353 | B25: 스테인리스공프레임 | C25: W160*1.2t(코킹 5*5) | D25: M | I25: 호표 22
A26: 598265AB59590B469AAE537D260806 | B26: 스테인리스재료분리대 | C26: 바닥, W45*H20*1.5t | D26: M | I26: 호표 23
A27: 598265A428516056385E932B20374B | B27: 철재커텐박스(ㄱ자형) | C27: 150*150*1.2t, STL(도장 유) | D27: M | I27: 호표 24
A28: 598265A4285157E666F9B38B241555 | B28: 철재커텐박스(ㄷ자형) | C28: 150*150*1.2t, STL(도장 유) | D28: M | I28: 호표 25
A29: 598265A5325DD016B9B8830C2EC992 | B29: AL몰딩설치(W형) | C29: 15*15*15*15*1.0mm | D29: M | I29: 호표 26 | J29: 건축 14-7 | M29: 건축 14-7
A30: 598265A5325DD016B78BA3BB27902A | B30: AL몰딩설치(ㄷ형) | C30: 15*30*15*1.3mm | D30: M | I30: 호표 27 | J30: 건축 14-7 | M30: 건축 14-7
A31: 598265A5325DD006983653D62B8676 | B31: MDF간접등박스 | C31: MDF18mm, H:200/인테리어필름마감 | D31: M | I31: 호표 28
A32: 5982D57C6C5197C627E203FB2ADA97 | B32: 경량기포 콘크리트 타설 | D32: M3 | I32: 호표 29 | J32: 건축 6-1-3 | M32: 건축 6-1-3
A33: 5982E560D35F1BC6DF4B83A22A571F | B33: 모르타르 바름 | C33: 내벽, 13mm ,전기배선부 보수포함 | D33: M2 | I33: 호표 30
A34: 5982E560D35F3686891D2333237B3E | B34: 모르타르 바름 | C34: 바닥, 30mm | D34: M2 | I34: 호표 31 | J34: 건축 10-1 준용 | M34: 건축 10-1 준용
A35: 59825544FF5CD1567DA3F3882EEF50 | B35: FSD01[1.6*45*150,분체도장] | C35: 1.800 x 2.100 = 3.780 | D35: EA | I35: 호표 32
A36: 59825544FF5CD1567DA3F3882EEC9B | B36: PW01[115mm미서기창]/방충망포함 | C36: 1.800 x 1.100 = 1.980 | D36: EA | I36: 호표 33
A37: 59825544FF5CD1567DA3F3882EE820 | B37: WD01[철재문틀1.6*45*100] | C37: 0.750 x 2.100 = 1.575 | D37: EA | I37: 호표 34
A38: 59825543D95C996613EBB3282BFB14 | B38: 도아록설치 | C38: 목재문, 재료비 별도 | D38: 개소 | I38: 호표 35 | J38: 건축 16-2 | M38: 건축 16-2
A39: 59825543D95C996613E8F3EC22204C | B39: 도아록설치 | C39: 강재문, 재료비 별도 | D39: 개소 | I39: 호표 36 | J39: 건축 16-2 | M39: 건축 16-2
A40: 59825543D95CC6B69BE0B35D228776 | B40: 도아체크달기 | C40: 재료비 별도 | D40: 개소 | I40: 호표 37 | J40: 건축 16-2 | M40: 건축 16-2
...

Sheet Sheet1
